BEGIN:VCALENDAR
VERSION:2.0
METHOD:PUBLISH
PRODID::-//Obvius//NONSGML ICal//DA
BEGIN:VEVENT
UID:3038621@www.econ.ku.dk
DESCRIPTION:A public meeting to celebrate the recent release of Economics
  for the Common Good\, Princeton University Press\, by Jean Tirole\, winn
 er of the 2014 Nobel Prize in Economics.\n\nhttps://www.econ.ku.dk/Kalende
 r/workshopkonference/book-economics-for-the-common-good-jean-tirole/
SUMMARY:Book release: Economics for the Common Good\, Jean Tirole
LOCATION:Chr. Hansen Auditorium\, CSS\, Building 34\, Øster Farimagsgade 
 5\, Cph. K (and not Lecture hall 35.01.05 as earlier announced!)
ORGANIZER:Department of Economics (ECON) and Department of Food and Resour
 ce Economics (IFRO)\, University of Copenhagen\, Denmark
DTSTART:20181005T140000Z
DTSTAMP:20181005T140000Z
DTEND:20181005T153000Z
END:VEVENT
END:VCALENDAR
