Workbook
Name Act_aggr_map1: OFFSET(Notes!$D$15,1,0,COUNTA(Notes!$D$16:$D$500),1)
Name Act_aggr_map2: OFFSET(Notes!$C$15,1,0,COUNTA(Notes!$C$16:$C$500),1)
Name Act_codes_aggr: OFFSET(Notes!$Y$15,1,0,COUNTA(Notes!$Y$16:$Y$500),1)
Name Act_codes_core: OFFSET(Notes!$A$15,1,0,COUNTA(Notes!$A$16:$A$500),1)
Name Act_labels_aggr: OFFSET(Notes!$Z$15,1,0,COUNTA(Notes!$Z$16:$Z$500),1)
Name Act_labels_core: OFFSET(Notes!$B$15,1,0,COUNTA(Notes!$B$16:$B$500),1)
Name Com_aggr_map1: OFFSET(Notes!$I$15,1,0,COUNTA(Notes!$I$16:$I$500),1)
Name Com_aggr_map2: OFFSET(Notes!$H$15,1,0,COUNTA(Notes!$H$16:$H$500),1)
Name Com_codes_aggr: OFFSET(Notes!$AC$15,1,0,COUNTA(Notes!$AC$16:$AC$500),1)
Name Com_codes_core: OFFSET(Notes!$F$15,1,0,COUNTA(Notes!$F$16:$F$500),1)
Name Com_labels_aggr: OFFSET(Notes!$AD$15,1,0,COUNTA(Notes!$AD$16:$AD$500),1)
Name Com_labels_core: OFFSET(Notes!$G$15,1,0,COUNTA(Notes!$G$16:$G$500),1)
Name EVTAB: OFFSET(OFFSET(INDIRECT(Index!$I$33),,,80,11),,,1+COUNTA(INDEX(OFFSET(INDIRECT(Index!$I$33),,,80,11),,1)),11)
Name factab1: OFFSET(Raw_Basedata!$L$6,1,0,COUNTA(Raw_Basedata!$L$8:$L$500)+1,12)
Name factab2: OFFSET(Raw_Basedata!$Z$6,1,0,COUNTA(Raw_Basedata!$Z$8:$Z$500)+1,12)
Name factab3: OFFSET(Raw_Basedata!$AN$6,1,0,COUNTA(Raw_Basedata!$AN$8:$AN$500)+1,4)
Name factab4A: OFFSET(Raw_Basedata!$AT$6,1,0,COUNTA(Raw_Basedata!$AT$8:$AT$500)+1,12)
Name factab5: OFFSET(Raw_Basedata!$BH$6,1,0,COUNTA(Raw_Basedata!$BH$8:$BH$500)+1,12)
Name Fct_codes: OFFSET(Notes!$K$15,1,0,COUNTA(Notes!$K$16:$K$500),1)
Name Fct_labels: OFFSET(Notes!$L$15,1,0,COUNTA(Notes!$L$16:$L$500),1)
Name GDP_Contrib_Growth: Raw_sGDP!$R$8:$AB$72
Name GDP_Contrib_Growth_aggr: OFFSET(OFFSET(INDIRECT(Index!$I$16),,,250,11),1+COUNTA(INDEX(OFFSET(INDIRECT(Index!$I$16),,,250,11),,1))-COUNTA(Notes!$Y$16:$Y$500),,COUNTA(Notes!$Y$16:$Y$500),11)
Name GDP_Contrib_Growth_core: OFFSET(OFFSET(INDIRECT(Index!$I$16),,,250,11),,,1+COUNTA(INDEX(OFFSET(INDIRECT(Index!$I$16),,,250,11),,1))-COUNTA(Notes!$Y$16:$Y$500),11)
Name GDP_Growth: Raw_sGDP!$C$8:$M$72
Name GDP_Growth_aggr: OFFSET(OFFSET(INDIRECT(Index!$I$15),,,250,11),1+COUNTA(INDEX(OFFSET(INDIRECT(Index!$I$15),,,250,11),,1))-COUNTA(Notes!$Y$16:$Y$500),,COUNTA(Notes!$Y$16:$Y$500),11)
Name GDP_Growth_core: OFFSET(OFFSET(INDIRECT(Index!$I$15),,,250,11),,,1+COUNTA(INDEX(OFFSET(INDIRECT(Index!$I$15),,,250,11),,1))-COUNTA(Notes!$Y$16:$Y$500),11)
Name HH_codes_core: OFFSET(Notes!$AF$15,1,0,COUNTA(Notes!$AF$16:$AF$500),1)
Name HH_labels_agg: OFFSET(Notes!$AJ$15,1,0,COUNTA(Notes!$AJ$16:$AJ$500),1)
Name HH_labels_aggr: OFFSET(Notes!$AI$15,1,0,COUNTA(Notes!$AI$16:$AI$500),1)
Name HH_labels_core: OFFSET(Notes!$AG$15,1,0,COUNTA(Notes!$AG$16:$AG$500),1)
Name Inst_codes: OFFSET(Notes!$N$15,1,0,COUNTA(Notes!$N$16:$N$500),1)
Name Inst_labels: OFFSET(Notes!$O$15,1,0,COUNTA(Notes!$O$16:$O$500),1)
Name Macro_Description_Lookup_range: Raw_Codes_Labels!$H$7:$J$43
Name MACROT: Raw_Macro!$C$7:$M$27
Name Number_of_EN_in_INSDNG: SUM(--(LEFT(_xlfn._xlws.FILTER(OFFSET(INDIRECT(Index!$I$32),,,80,1),OFFSET(INDIRECT(Index!$I$32),,,80,1)<>0),2)="en"))
Name PETAB_aggr: OFFSET(OFFSET(INDIRECT(Index!$I$23),,,250,11),1+COUNTA(INDEX(OFFSET(INDIRECT(Index!$I$23),,,250,11),,1))-COUNTA(Notes!$AC$16:$AC$500),,COUNTA(Notes!$AC$16:$AC$500),11)
Name PETAB_core: OFFSET(OFFSET(INDIRECT(Index!$I$23),,,250,11),,,1+COUNTA(INDEX(OFFSET(INDIRECT(Index!$I$23),,,250,11),,1))-COUNTA(Notes!$AC$16:$AC$500),11)
Name PETAB2: Raw_Prices!$B$230:$L$330
Name PMTAB_aggr: OFFSET(OFFSET(INDIRECT(Index!$I$24),,,250,11),1+COUNTA(INDEX(OFFSET(INDIRECT(Index!$I$24),,,250,11),,1))-COUNTA(Notes!$AC$16:$AC$500),,COUNTA(Notes!$AC$16:$AC$500),11)
Name PMTAB_core: OFFSET(OFFSET(INDIRECT(Index!$I$24),,,250,11),,,1+COUNTA(INDEX(OFFSET(INDIRECT(Index!$I$24),,,250,11),,1))-COUNTA(Notes!$AC$16:$AC$500),11)
Name PMTAB2: Raw_Prices!$B$340:$L$437
Name PQTAB_aggr: OFFSET(OFFSET(INDIRECT(Index!$I$22),,,250,11),1+COUNTA(INDEX(OFFSET(INDIRECT(Index!$I$22),,,250,11),,1))-COUNTA(Notes!$AC$16:$AC$500),,COUNTA(Notes!$AC$16:$AC$500),11)
Name PQTAB_core: OFFSET(OFFSET(INDIRECT(Index!$I$22),,,250,11),,,1+COUNTA(INDEX(OFFSET(INDIRECT(Index!$I$22),,,250,11),,1))-COUNTA(Notes!$AC$16:$AC$500),11)
Name PQTAB2: Raw_Prices!$B$120:$L$220
Name pwex: Raw_Prices!$B$1210:$L$1235
Name pwmx: Raw_Prices!$B$1510:$L$1562
Name PXTAB_aggr: OFFSET(OFFSET(INDIRECT(Index!$I$21),,,250,11),1+COUNTA(INDEX(OFFSET(INDIRECT(Index!$I$21),,,250,11),,1))-COUNTA(Notes!$AC$16:$AC$500),,COUNTA(Notes!$AC$16:$AC$500),11)
Name PXTAB_core: OFFSET(OFFSET(INDIRECT(Index!$I$21),,,250,11),,,1+COUNTA(INDEX(OFFSET(INDIRECT(Index!$I$21),,,250,11),,1))-COUNTA(Notes!$AC$16:$AC$500),11)
Name PXTAB2: Raw_Prices!$B$11:$L$110
Name QDTAB_aggr: OFFSET(OFFSET(INDIRECT(Index!$I$19),,,250,11),1+COUNTA(INDEX(OFFSET(INDIRECT(Index!$I$19),,,250,11),,1))-COUNTA(Notes!$AC$16:$AC$500),,COUNTA(Notes!$AC$16:$AC$500),11)
Name QDTAB_core: OFFSET(OFFSET(INDIRECT(Index!$I$19),,,250,11),,,1+COUNTA(INDEX(OFFSET(INDIRECT(Index!$I$19),,,250,11),,1))-COUNTA(Notes!$AC$16:$AC$500),11)
Name QETAB_aggr: OFFSET(OFFSET(INDIRECT(Index!$I$17),,,250,11),1+COUNTA(INDEX(OFFSET(INDIRECT(Index!$I$17),,,250,11),,1))-COUNTA(Notes!$AC$16:$AC$500),,COUNTA(Notes!$AC$16:$AC$500),11)
Name QETAB_core: OFFSET(OFFSET(INDIRECT(Index!$I$17),,,250,11),,,1+COUNTA(INDEX(OFFSET(INDIRECT(Index!$I$17),,,250,11),,1))-COUNTA(Notes!$AC$16:$AC$500),11)
Name QETAB_test: OFFSET(OFFSET(INDIRECT(Index!$I$17),,,250,11),,,1+COUNTA(INDEX(OFFSET(INDIRECT(Index!$I$17),,,250,11),,1)),11)
Name QFSXP: OFFSET(OFFSET(INDIRECT(Index!$I$27),,,80,11),,,1+COUNTA(INDEX(OFFSET(INDIRECT(Index!$I$27),,,80,11),,1)),11)
Name QFXP: OFFSET(OFFSET(INDIRECT(Index!$I$63),,,4000,11),,,1+COUNTA(INDEX(OFFSET(INDIRECT(Index!$I$63),,,4000,11),,1)),12)
Name QHTAB: Raw_HH!$B$333:$M$433
Name QHTAB_aggr: OFFSET(OFFSET(INDIRECT(Index!$I$34),,,250,11),1+COUNTA(INDEX(OFFSET(INDIRECT(Index!$I$34),,,250,11),,1))-COUNTA(Notes!$AC$16:$AC$500),,COUNTA(Notes!$AC$16:$AC$500),11)
Name QHTAB_core: OFFSET(OFFSET(INDIRECT(Index!$I$34),,,250,11),,,1+COUNTA(INDEX(OFFSET(INDIRECT(Index!$I$34),,,250,11),,1))-COUNTA(Notes!$AC$16:$AC$500),11)
Name QMTAB_aggr: OFFSET(OFFSET(INDIRECT(Index!$I$18),,,250,11),1+COUNTA(INDEX(OFFSET(INDIRECT(Index!$I$18),,,250,11),,1))-COUNTA(Notes!$AC$16:$AC$500),,COUNTA(Notes!$AC$16:$AC$500),11)

Sheet Cover
A1: Online Course CGE Model
A2: Rob Davies, Dirk van Seventer,Karl Pauw and James Thurlow
A3: Version: Static 1.06 beta
A4: Results File
B5: Last run | C5: 46314.951
B7: Sheet name | C7: Content | F7: Sim code | G7: Sim Description | H7: Sim active?
B8: Notes | C8: Details about the structure of the data | F8: =Raw_Codes_Labels!B8 -> base | G8: =Raw_Codes_Labels!D8 -> base | H8: =IF(Raw_Codes_Labels!C8=1,"Yes","No") -> No
B9: GDPTAB | C9: Gross domestic product and its components | F9: =Raw_Codes_Labels!B9 -> sim1 | G9: =Raw_Codes_Labels!D9 -> tm +10% | H9: =IF(Raw_Codes_Labels!C9=1,"Yes","No") -> Yes
B10: Macro | C10: Various macroeconomic indicators | F10: =Raw_Codes_Labels!B10 -> sim2 | G10: =Raw_Codes_Labels!D10 -> tq manf 10% | H10: =IF(Raw_Codes_Labels!C10=1,"Yes","No") -> Yes
B11: Sector | C11: Various Sectoral Output indicators | F11: =Raw_Codes_Labels!B11 -> sim3 | G11: =Raw_Codes_Labels!D11 -> pwm cr_oil&gas +10% | H11: =IF(Raw_Codes_Labels!C11=1,"Yes","No") -> Yes
B12: Trade | C12: Quantities of exports, imports, domestically supplied and composite | F12: =Raw_Codes_Labels!B12 -> sim4 | G12: =Raw_Codes_Labels!D12 -> 0 | H12: =IF(Raw_Codes_Labels!C12=1,"Yes","No") -> No
B13: Prices | C13: Prices of output, composite demand, export and imports | F13: =Raw_Codes_Labels!B13 -> sim5 | G13: =Raw_Codes_Labels!D13 -> 0 | H13: =IF(Raw_Codes_Labels!C13=1,"Yes","No") -> No
B14: Factors | C14: Factor supplies, wages and incomes | F14: =Raw_Codes_Labels!B14 -> sim6 | G14: =Raw_Codes_Labels!D14 -> 0 | H14: =IF(Raw_Codes_Labels!C14=1,"Yes","No") -> No
B15: Factors2 | C15: Sectoral factor demands and wage premia | F15: =Raw_Codes_Labels!B15 -> sim7 | G15: =Raw_Codes_Labels!D15 -> 0 | H15: =IF(Raw_Codes_Labels!C15=1,"Yes","No") -> No
B16: Households | C16: Income, equivalent variation, and real total consumption spending | F16: =Raw_Codes_Labels!B16 -> sim8 | G16: =Raw_Codes_Labels!D16 -> 0 | H16: =IF(Raw_Codes_Labels!C16=1,"Yes","No") -> No
B17: HH Charts | C17: Charts of household income distribution | F17: =Raw_Codes_Labels!B17 -> sim9 | G17: =Raw_Codes_Labels!D17 -> 0 | H17: =IF(Raw_Codes_Labels!C17=1,"Yes","No") -> No
B18: Basedata | C18: Data about the structure of the economy prior to any shocks
B19: Budget | C19: Government revenues, expenditures and deficits
B20: Tax_Rates | C20: Tax rates and transfers
B21: Tariff_Rates | C21: Tariff Rates
B22: BoP | C22: Balance of Payments Summarry
B23: SITAB | C23: Savings-Investment Table

Sheet Notes
A1: =CONCATENATE(E7," ",E6," CGE Model") -> 2019 Viet Nam CGE Model
A2: Return to Cover | G2: Construction date: | I2: SAM | J2: 45778
I3: Model | J3: 45778
G4: Units: | J4: =E8 -> Trillions of Dong
G5: Structure: | J5: =COUNTA(A16:A215)&" "&A15 -> 190 Activities
A6: Social Accounting Matrix | D6: Country | E6: Viet Nam | J6: =COUNTA(F16:F215)&" "&F15 -> 183 Commodities
D7: Year | E7: 2019 | J7: =COUNTA(K16:K215)&" "&K15 -> 11 Factors
D8: Unit | E8: Trillions of Dong | J8: =4&" "&N15 -> 4 Institutions
J9: =COUNTA(Q20:Q22)&" Taxes" -> 3 Taxes
A11: Citation | B11: SAM | C11: Based on a Viet Nam 2019 SAM
B12: Model | C12: Lofgren, H., Robinson, S. and Harris, R. 2001. "A standard computable general equilibrium (CGE) model in GAMS", International Food Policy Research Institute, Washington D.C.
A15: Activities | C15: Level2 | D15: Level1 | F15: Commodities | H15: Level2 | I15: Level1 | K15: Factors | N15: Institutions | Q15: Other accounts | Y15: Aggregation of Reporting Activities | AC15: Aggregation of Reporting Commodities | AF15: Households | AI15: Aggregation of Households | AL15: Mappings
A16: a_001 | B16: Paddy | C16: sGDP | D16: sAGR | E16: Agriculture | F16: c_001 | G16: Paddy | I16: xAGR | J16: Agriculture | K16: flab_u_t | L16: Urban Tertiary Wage Earnings | N16: ent_ag | O16: Agriculture Enterprises | Q16: trd | R16: Margins on domestic trade | Y16: {=Raw_Codes_Labels!Q7:R18} -> sGDP | Z16: Tot Act | AC16: {=Raw_Codes_Labels!T8:U17} -> xAGR | AD16: Agriculture | AF16: hhd_uf1 | AG16: Urban Farm Househ Inc Q1
A17: a_002 | B17: Corn and other grain food products | C17: sGDP | D17: sAGR | E17: Agriculture | F17: c_002 | G17: Corn and other grain food products | I17: xAGR | J17: Agriculture | K17: flab_u_s | L17: Urban Secondary Wage Earnings | N17: ent_na | O17: Non-agriculture Enterprises | Q17: trm | R17: Margins on imports | Y17: sAGR | Z17: Agriculture | AC17: xMIN | AD17: Mining | AF17: hhd_uf2 | AG17: Urban Farm Househ Inc Q2
A18: a_003 | B18: Root crop products contain starch | C18: sGDP | D18: sAGR | E18: Agriculture | F18: c_003 | G18: Root crop products contain starch | I18: xAGR | J18: Agriculture | K18: flab_u_p | L18: Urban Primary Wage Earnings | N18: hhd_uf1 | O18: Urban Farm Househ Inc Q1 | Q18: tre | R18: Margins on exports | Y18: sMIN | Z18: Mining | AC18: xMND | AD18: Manf non-Dur | AF18: hhd_uf3 | AG18: Urban Farm Househ Inc Q3
A19: a_004 | B19: Oil-bearing plant products | C19: sGDP | D19: sAGR | E19: Agriculture | F19: c_004 | G19: Oil-bearing plant products | I19: xAGR | J19: Agriculture | K19: flab_r_t | L19: Rural Tertiary Wage Earnings | N19: hhd_uf2 | O19: Urban Farm Househ Inc Q2 | Q19: gov | R19: Government | Y19: sMND | Z19: Non-Dur Manf | AC19: xMDU | AD19: Manf Dur | AF19: hhd_uf4 | AG19: Urban Farm Househ Inc Q4
A20: a_005 | B20: Fresh sugar cane | C20: sGDP | D20: sAGR | E20: Agriculture | F20: c_005 | G20: Fresh sugar cane | I20: xAGR | J20: Agriculture | K20: flab_r_s | L20: Rural Secondary Wage Earnings | N20: hhd_uf3 | O20: Urban Farm Househ Inc Q3 | Q20: atax | R20: Taxes - activity | Y20: sMDU | Z20: Durble Manf | AC20: xELP | AD20: All Electr | AF20: hhd_uf5 | AG20: Urban Farm Househ Inc Q5
A21: a_006 | B21: Vegetables, beans of all kinds | C21: sGDP | D21: sAGR | E21: Agriculture | F21: c_006 | G21: Vegetables, beans of all kinds | I21: xAGR | J21: Agriculture | K21: flab_r_p | L21: Rural Primary Wage Earnings | N21: hhd_uf4 | O21: Urban Farm Househ Inc Q4 | Q21: dtax | R21: Taxes - direct | Y21: sELN | Z21: N-Renw ElecGen | AC21: xETD | AD21: Elctr TrDistr | AF21: hhd_un1 | AG21: Urban non-Farm Househ Inc Q1
A22: a_007 | B22: Annual flower products | C22: sGDP | D22: sAGR | E22: Agriculture | F22: c_007 | G22: Annual flower products | I22: xAGR | J22: Agriculture | K22: fcap_ag | L22: Agriculture Capital Prod Fact Earnings | N22: hhd_uf5 | O22: Urban Farm Househ Inc Q5 | Q22: ftax | R22: Taxes - factor | Y22: sELR | Z22: Renwbl ElecGen | AC22: xTRD | AD22: Trade+Acco | AF22: hhd_un2 | AG22: Urban non-Farm Househ Inc Q2
A23: a_008 | B23: Other remaining annual crop products | C23: sGDP | D23: sAGR | E23: Agriculture | F23: c_008 | G23: Other remaining annual crop products | I23: xAGR | J23: Agriculture | K23: fcap_na | L23: Non-Agriculture Capital earnings | N23: hhd_un1 | O23: Urban non-Farm Househ Inc Q1 | Q23: mtax | R23: Taxes - import | Y23: sETD | Z23: Elec TrsmDistr | AC23: xTRP | AD23: Transp | AF23: hhd_un3 | AG23: Urban non-Farm Househ Inc Q3
A24: a_009 | B24: Fruit tree products | C24: sGDP | D24: sAGR | E24: Agriculture | F24: c_009 | G24: Fruit tree products | I24: xAGR | J24: Agriculture | K24: flnd | L24: Land Production Factor Earnings | N24: hhd_un2 | O24: Urban non-Farm Househ Inc Q2 | Q24: stax | R24: Taxes - sales | Y24: sTRD | Z24: Trade | AC24: xPSV | AD24: Oth Priv Srv | AF24: hhd_un4 | AG24: Urban non-Farm Househ Inc Q4
A25: a_010 | B25: Dried cashews | C25: sGDP | D25: sAGR | E25: Agriculture | F25: c_010 | G25: Dried cashews | I25: xAGR | J25: Agriculture | K25: fliv | L25: Livestock Production Factor Earnings | N25: hhd_un3 | O25: Urban non-Farm Househ Inc Q3 | Q25: s-i | R25: Savings-investment | Y25: sTRP | Z25: Transp | AC25: xGSV | AD25: Publ Srv | AF25: hhd_un5 | AG25: Urban non-Farm Househ Inc Q5
A26: a_011 | B26: Pepper seeds | C26: sGDP | D26: sAGR | E26: Agriculture | F26: c_011 | G26: Pepper seeds | I26: xAGR | J26: Agriculture | K26: ffsh | L26: Fishstock Production Factor Earnings | N26: hhd_un4 | O26: Urban non-Farm Househ Inc Q4 | Q26: dstk | R26: Change in stocks | Y26: sPSV | Z26: Priv Srv | AF26: hhd_rf1 | AG26: Rural Farm Househ Inc Q1
A27: a_012 | B27: Dried latex | C27: sGDP | D27: sAGR | E27: Agriculture | F27: c_012 | G27: Dried latex | I27: xAGR | J27: Agriculture | N27: hhd_un5 | O27: Urban non-Farm Househ Inc Q5 | Q27: total | R27: Total | Y27: sGSV | Z27: Publ Srv | AF27: hhd_rf2 | AG27: Rural Farm Househ Inc Q2
A28: a_013 | B28: Coffee beans | C28: sGDP | D28: sAGR | E28: Agriculture | F28: c_013 | G28: Coffee beans | I28: xAGR | J28: Agriculture | N28: hhd_rf1 | O28: Rural Farm Househ Inc Q1 | AF28: hhd_rf3 | AG28: Rural Farm Househ Inc Q3
A29: a_014 | B29: Fresh tea buds, fresh tea leaves | C29: sGDP | D29: sAGR | E29: Agriculture | F29: c_014 | G29: Fresh tea buds, fresh tea leaves | I29: xAGR | J29: Agriculture | N29: hhd_rf2 | O29: Rural Farm Househ Inc Q2 | AF29: hhd_rf4 | AG29: Rural Farm Househ Inc Q4
A30: a_015 | B30: Other remaining perennial plant products | C30: sGDP | D30: sAGR | E30: Agriculture | F30: c_015 | G30: Other remaining perennial plant products | I30: xAGR | J30: Agriculture | N30: hhd_rf3 | O30: Rural Farm Househ Inc Q3 | AF30: hhd_rf5 | AG30: Rural Farm Househ Inc Q5
A31: a_016 | B31: Buffalo and cow livestock products | C31: sGDP | D31: sAGR | E31: Agriculture | F31: c_016 | G31: Buffalo and cow livestock products | I31: xAGR | J31: Agriculture | N31: hhd_rf4 | O31: Rural Farm Househ Inc Q4 | AF31: hhd_rn1 | AG31: Rural non-Farm Househ Inc Q1
A32: a_017 | B32: Pig farming products | C32: sGDP | D32: sAGR | E32: Agriculture | F32: c_017 | G32: Pig farming products | I32: xAGR | J32: Agriculture | N32: hhd_rf5 | O32: Rural Farm Househ Inc Q5 | AF32: hhd_rn2 | AG32: Rural non-Farm Househ Inc Q2
A33: a_018 | B33: Poultry products | C33: sGDP | D33: sAGR | E33: Agriculture | F33: c_018 | G33: Poultry products | I33: xAGR | J33: Agriculture | N33: hhd_rn1 | O33: Rural non-Farm Househ Inc Q1 | AF33: hhd_rn3 | AG33: Rural non-Farm Househ Inc Q3
A34: a_019 | B34: Other remaining livestock products | C34: sGDP | D34: sAGR | E34: Agriculture | F34: c_019 | G34: Other remaining livestock products | I34: xAGR | J34: Agriculture | N34: hhd_rn2 | O34: Rural non-Farm Househ Inc Q2 | AF34: hhd_rn4 | AG34: Rural non-Farm Househ Inc Q4
A35: a_020 | B35: Agricultural services | C35: sGDP | D35: sPSV | E35: Priv Srv | F35: c_020 | G35: Agricultural services | I35: xPSV | J35: Priv Srv | N35: hhd_rn3 | O35: Rural non-Farm Househ Inc Q3 | AF35: hhd_rn5 | AG35: Rural non-Farm Househ Inc Q5
A36: a_021 | B36: Hunting and trapping products and related services | C36: sGDP | D36: sAGR | E36: Agriculture | F36: c_021 | G36: Hunting and trapping products and related services | I36: xAGR | J36: Agriculture | N36: hhd_rn4 | O36: Rural non-Farm Househ Inc Q4
A37: a_022 | B37: Other agricultural products have not been classified yet | C37: sGDP | D37: sAGR | E37: Agriculture | F37: c_022 | G37: Other agricultural products have not been classified yet | I37: xAGR | J37: Agriculture | N37: hhd_rn5 | O37: Rural non-Farm Househ Inc Q5
A38: a_023 | B38: Forest planting and care products and forestry seedlings | C38: sGDP | D38: sAGR | E38: Agriculture | F38: c_023 | G38: Forest planting and care products and forestry seedlings | I38: xAGR | J38: Agriculture
A39: a_024 | B39: Harvested wood | C39: sGDP | D39: sAGR | E39: Agriculture | F39: c_024 | G39: Harvested wood | I39: xAGR | J39: Agriculture
A40: a_025 | B40: Other exploited and collected forest products except wood | C40: sGDP | D40: sAGR | E40: Agriculture | F40: c_025 | G40: Other exploited and collected forest products except wood | I40: xAGR | J40: Agriculture
A41: a_026 | B41: Forestry services | C41: sGDP | D41: sPSV | E41: Priv Srv | F41: c_026 | G41: Forestry services | I41: xPSV | J41: Priv Srv
A42: a_027 | B42: Marine aquatic products | C42: sGDP | D42: sAGR | E42: Agriculture | F42: c_027 | G42: Marine aquatic products | I42: xAGR | J42: Agriculture
A43: a_028 | B43: Inland exploited aquatic products | C43: sGDP | D43: sAGR | E43: Agriculture | F43: c_028 | G43: Inland exploited aquatic products | I43: xAGR | J43: Agriculture
...

Sheet Index
B1: Return to Cover | G1: GDX index
A4: Location of input tables
A5: Name | B5: Sheet | C5: Start Col | D5: Start Row | G5: Type | H5: Name | I5: Location | J5: Row | K5: Column
J6: rdim | K6: cdim
A7: strucbase | B7: Raw_Basedata | C7: b | D7: 7 | G7: par | H7: =A7 -> strucbase | I7: =B7&"!"&C7&D7 -> Raw_Basedata!b7 | J7: 1 | K7: 1
A8: factab1 | B8: Raw_Basedata | C8: l | D8: 7 | G8: par | H8: =A8 -> factab1 | I8: =B8&"!"&C8&D8 -> Raw_Basedata!l7 | J8: 1 | K8: 1
A9: factab2 | B9: Raw_Basedata | C9: z | D9: 7 | G9: par | H9: =A9 -> factab2 | I9: =B9&"!"&C9&D9 -> Raw_Basedata!z7 | J9: 1 | K9: 1
A10: factab3 | B10: Raw_Basedata | C10: an | D10: 7 | G10: par | H10: =A10 -> factab3 | I10: =B10&"!"&C10&D10 -> Raw_Basedata!an7 | J10: 1 | K10: 1
A11: factab4A | B11: Raw_Basedata | C11: at | D11: 7 | G11: par | H11: =A11 -> factab4A | I11: =B11&"!"&C11&D11 -> Raw_Basedata!at7 | J11: 1 | K11: 1
A12: factab5 | B12: Raw_Basedata | C12: bh | D12: 7 | G12: par | H12: =A12 -> factab5 | I12: =B12&"!"&C12&D12 -> Raw_Basedata!bh7 | J12: 1 | K12: 1
A13: gdptab1p | B13: Raw_GDPTAB | C13: c | D13: 7 | G13: par | H13: =A13 -> gdptab1p | I13: =B13&"!"&C13&D13 -> Raw_GDPTAB!c7 | J13: 2 | K13: 1
A14: macrotab | B14: raw_Macro | C14: c | D14: 7 | G14: par | H14: =A14 -> macrotab | I14: =B14&"!"&C14&D14 -> raw_Macro!c7 | J14: 1 | K14: 1
A15: sgrowth | B15: raw_sGDP | C15: c | D15: 7 | G15: par | H15: =A15 -> sgrowth | I15: =B15&"!"&C15&D15 -> raw_sGDP!c7 | J15: 1 | K15: 1
A16: scontr | B16: raw_sGDP | C16: r | D16: 7 | G16: par | H16: =A16 -> scontr | I16: =B16&"!"&C16&D16 -> raw_sGDP!r7 | J16: 1 | K16: 1
A17: qetab2 | B17: raw_Trade | C17: b | D17: 10 | G17: par | H17: =A17 -> qetab2 | I17: =B17&"!"&C17&D17 -> raw_Trade!b10 | J17: 1 | K17: 1
A18: qmtab2 | B18: raw_Trade | C18: b | D18: 310 | G18: par | H18: =A18 -> qmtab2 | I18: =B18&"!"&C18&D18 -> raw_Trade!b310 | J18: 1 | K18: 1
... A29: yfxp | B29: Raw_Factors | C29: b | D29: 410 | G29: par | H29: =A29 -> yfxp | I29: =B29&"!"&C29&D29 -> Raw_Factors!b410 | J29: 1 | K29: 1
A30: qfxp | B30: Raw_Factors_QFXP | C30: c | D30: 6 | G30: par | H30: qfxp | I30: =B30&"!"&C30&D30 -> Raw_Factors_QFXP!c6 | J30: 2 | K30: 1
A31: wfdistxp | B31: Raw_Factors_WFDISTXP | C31: c | D31: 6 | G31: par | H31: =A31 -> wfdistxp | I31: =B31&"!"&C31&D31 -> Raw_Factors_WFDISTXP!c6 | J31: 2 | K31: 1
A32: yitab | B32: raw_HH | C32: b | D32: 10 | G32: par | H32: =A32 -> yitab | I32: =B32&"!"&C32&D32 -> raw_HH!b10 | J32: 1 | K32: 1
A33: evtab | B33: raw_HH | C33: b | D33: 139 | G33: par | H33: =A33 -> evtab | I33: =B33&"!"&C33&D33 -> raw_HH!b139 | J33: 1 | K33: 1
A34: qhtab2 | B34: raw_HH | C34: b | D34: 333 | G34: par | H34: =A34 -> qhtab2 | I34: =B34&"!"&C34&D34 -> raw_HH!b333 | J34: 1 | K34: 1
A35: tinsx | B35: Raw_Tax_Rates | C35: ac | D35: 7 | G35: par | H35: =A35 -> tinsx | I35: =B35&"!"&C35&D35 -> Raw_Tax_Rates!ac7 | J35: 1 | K35: 1
A36: trnsfrx | B36: Tax_Rates | C36: ac | D36: 7 | G36: par | H36: =A36 -> trnsfrx | I36: =B36&"!"&C36&D36 -> Tax_Rates!ac7 | J36: 2 | K36: 1
A37: tqx | B37: Raw_Tax_Rates | C37: ac | D37: 107 | G37: par | H37: =A37 -> tqx | I37: =B37&"!"&C37&D37 -> Raw_Tax_Rates!ac107 | J37: 1 | K37: 1
A38: tmx | B38: Tariff_Rates | C38: ac | D38: 7 | G38: par | H38: =A38 -> tmx | I38: =B38&"!"&C38&D38 -> Tariff_Rates!ac7 | J38: 1 | K38: 1
A39: YG1X | B39: Raw_Govt | C39: c | D39: 5 | G39: par | H39: =A39 -> YG1X | I39: =B39&"!"&C39&D39 -> Raw_Govt!c5 | J39: 1
A40: YG2X | B40: Raw_Govt | C40: f | D40: 5 | G40: par | H40: =A40 -> YG2X | I40: =B40&"!"&C40&D40 -> Raw_Govt!f5 | J40: 1
A41: YG3X | B41: Raw_Govt | C41: i | D41: 5 | G41: par | H41: =A41 -> YG3X | I41: =B41&"!"&C41&D41 -> Raw_Govt!i5 | J41: 1
A42: YG4X | B42: Raw_Govt | C42: l | D42: 5 | G42: par | H42: =A42 -> YG4X | I42: =B42&"!"&C42&D42 -> Raw_Govt!l5 | J42: 1
A43: YG5X | B43: Raw_Govt | C43: o | D43: 5 | G43: par | H43: =A43 -> YG5X | I43: =B43&"!"&C43&D43 -> Raw_Govt!o5 | J43: 1
A44: YG6X | B44: Raw_Govt | C44: r | D44: 5 | G44: par | H44: =A44 -> YG6X | I44: =B44&"!"&C44&D44 -> Raw_Govt!r5 | J44: 1
A45: YG7X | B45: Raw_Govt | C45: u | D45: 5 | G45: par | H45: =A45 -> YG7X | I45: =B45&"!"&C45&D45 -> Raw_Govt!u5 | J45: 1
A46: YG8X | B46: Raw_Govt | C46: x | D46: 5 | G46: par | H46: =A46 -> YG8X | I46: =B46&"!"&C46&D46 -> Raw_Govt!x5 | J46: 1
A47: YG9X | B47: Raw_Govt | C47: aa | D47: 5 | G47: par | H47: =A47 -> YG9X | I47: =B47&"!"&C47&D47 -> Raw_Govt!aa5 | J47: 1
A48: CPIX | B48: Raw_Govt | C48: ad | D48: 5 | G48: par | H48: =A48 -> CPIX | I48: =B48&"!"&C48&D48 -> Raw_Govt!ad5 | J48: 1
A49: BOP | B49: BoP | C49: ac | D49: 7 | G49: par | H49: =A49 -> BOP | I49: =B49&"!"&C49&D49 -> BoP!ac7 | J49: 1 | K49: 1
A50: SITAB | B50: Sav_INV | C50: ac | D50: 7 | G50: par | H50: =A50 -> SITAB | I50: =B50&"!"&C50&D50 -> Sav_INV!ac7 | J50: 1 | K50: 1
A51: QINTAX | B51: Raw_QINTA | C51: c | D51: 7 | G51: par | H51: =A51 -> QINTAX | I51: =B51&"!"&C51&D51 -> Raw_QINTA!c7 | J51: 1 | K51: 1
A52: dummy1 | B52: Cover | C52: c | D52: 5 | G52: par | H52: =A52 -> dummy1 | I52: =B52&"!"&C52&D52 -> Cover!c5

Sheet Basedata
A1: Data about the base
A2: Return to Cover
C3: Value added, gross output, employment, export and import shares in economy. EXP-OUTshr = share of exports in output; IM-DEMshr = import penetration
C5: STRUCTURE IN THE BASE (%) | K5: FACTOR SHARES WITHIN SECTORS | Z5: FACTOR SHARES ACROSS SECTORS | AN5: AGGREGATE VALUE ADDED AND INTERMEDIATE SHARES AND ELASTICITY OF SUBSTITUTION | AU5: FACTOR WAGES BY SECTOR (LCU pa) | BI5: OUTPUT-FACTOR RATIOS (LCU per unit of factor)
B7: {=strucbase} -> 0 | C7: VAshr | D7: PRDshr | E7: EMPshr | F7: EXPshr | G7: EXP-OUTshr | H7: IMPshr | I7: IMP-DEMshr | L7: {=factab1} -> 0 | M7: flab_u_t | N7: flab_u_s | O7: flab_u_p | P7: flab_r_t | Q7: flab_r_s | R7: flab_r_p | S7: fcap_ag | T7: fcap_na | U7: flnd | V7: fliv | W7: ffsh | AA7: {=factab2} -> 0 | AB7: flab_u_t | AC7: flab_u_s | AD7: flab_u_p | AE7: flab_r_t | AF7: flab_r_s | AG7: flab_r_p | AH7: fcap_ag | AI7: fcap_na | AJ7: flnd | AK7: fliv | AL7: ffsh | AO7: {=factab3} -> 0 | AP7: QVASHR | AQ7: QINTSHR | AR7: SIGMAVA | AV7: {=factab4A} -> 0 | AW7: flab_u_t | AX7: flab_u_s | AY7: flab_u_p | AZ7: flab_r_t | BA7: flab_r_s | BB7: flab_r_p | BC7: fcap_ag | BD7: fcap_na | BE7: flnd | BF7: fliv | BG7: ffsh | BJ7: {=factab5} -> 0 | BK7: flab_u_t | BL7: flab_u_s | BM7: flab_u_p | BN7: flab_r_t | BO7: flab_r_s | BP7: flab_r_p | BQ7: fcap_ag | BR7: fcap_na | BS7: flnd | BT7: fliv | BU7: ffsh
A8: {=IFERROR(_xlfn.XLOOKUP(B8,Com_codes_core,Com_labels_core),"")} -> Paddy | B8: c_001 | C8: 2.1376632 | D8: 1.269708 | E8: 12.078952 | F8: 0 | G8: 0 | H8: 0.0061127836 | I8: 0.14859367 | K8: {=IFERROR(_xlfn.XLOOKUP(L8,Act_codes_core,Act_labels_core),"")} -> Paddy | L8: a_001 | M8: 1.7893111 | N8: 7.4332119 | O8: 1.5092869 | P8: 9.7543785 | Q8: 57.280053 | R8: 15.951358 | S8: 0.39947132 | T8: 0 | U8: 5.8829292 | V8: 0 | W8: 0 | Z8: {=IFERROR(_xlfn.XLOOKUP(AA8,Act_codes_core,Act_labels_core),"")} -> Paddy | AA8: a_001 | AB8: 0.16531459 | AC8: 1.8888158 | AD8: 2.4013706 | AE8: 1.7653092 | AF8: 6.9646965 | AG8: 9.5992116 | AH8: 5.240892 | AI8: 0 | AJ8: 30.737028 | AK8: 0 | AL8: 0 | AN8: {=IFERROR(_xlfn.XLOOKUP(AO8,Act_codes_core,Act_labels_core),"")} -> Paddy | AO8: a_001 | AP8: 54.963513 | AQ8: 45.036487 | AR8: 0.3 | AU8: {=IFERROR(_xlfn.XLOOKUP(AV8,Act_codes_core,Act_labels_core),"")} -> Paddy | AV8: a_001 | AW8: 0.044605137 | AX8: 0.033239272 | AY8: 0.025560307 | AZ8: 0.021001924 | BA8: 0.021026691 | BB8: 0.017201054 | BC8: 1 | BD8: 0 | BE8: 1 | BF8: 0 | BG8: 0 | BI8: {=IFERROR(_xlfn.XLOOKUP(BJ8,Act_codes_core,Act_labels_core),"")} -> Paddy | BJ8: a_001 | BK8: 4.5443483 | BL8: 0.81516884 | BM8: 3.0872149 | BN8: 0.39249312 | BO8: 0.06691756 | BP8: 0.19657577 | BQ8: 456.33836 | BR8: 0 | BS8: 30.986959 | BT8: 0 | BU8: 0
A9: {=IFERROR(_xlfn.XLOOKUP(B9,Com_codes_core,Com_labels_core),"")} -> Corn and other grain food products | B9: c_002 | C9: 0.24573955 | D9: 0.14001467 | E9: 1.4866411 | F9: 0.022951511 | G9: 4.9276338 | H9: 1.1585539 | I9: 71.248412 | K9: {=IFERROR(_xlfn.XLOOKUP(L9,Act_codes_core,Act_labels_core),"")} -> Corn and other grain food products | L9: a_002 | M9: 0.8922897 | N9: 2.6453413 | O9: 2.4319939 | P9: 10.267347 | Q9: 54.004308 | R9: 24.640068 | S9: 0.32547349 | T9: 0 | U9: 4.793179 | V9: 0 | W9: 0 | Z9: {=IFERROR(_xlfn.XLOOKUP(AA9,Act_codes_core,Act_labels_core),"")} -> Corn and other grain food products | AA9: a_002 | AB9: 0.0094722393 | AC9: 0.07723537 | AD9: 0.4446019 | AE9: 0.21350145 | AF9: 0.75448155 | AG9: 1.7037318 | AH9: 0.4906329 | AI9: 0 | AJ9: 2.8774867 | AK9: 0 | AL9: 0 | AN9: {=IFERROR(_xlfn.XLOOKUP(AO9,Act_codes_core,Act_labels_core),"")} -> Corn and other grain food products | AO9: a_002 | AP9: 57.283761 | AQ9: 42.716239 | AR9: 0.3 | AU9: {=IFERROR(_xlfn.XLOOKUP(AV9,Act_codes_core,Act_labels_core),"")} -> Corn and other grain food products | AV9: a_002 | AW9: 0.026968341 | AX9: 0.02519254 | AY9: 0.02531659 | AZ9: 0.021121897 | BA9: 0.021141494 | BB9: 0.016671366 | BC9: 1 | BD9: 0 | BE9: 1 | BF9: 0 | BG9: 0 | BI9: {=IFERROR(_xlfn.XLOOKUP(BJ9,Act_codes_core,Act_labels_core),"")} -> Corn and other grain food products | BJ9: a_002 | BK9: 5.2847724 | BL9: 1.6652068 | BM9: 1.8202065 | BN9: 0.35971011 | BO9: 0.068451854 | BP9: 0.11830613 | BQ9: 537.23256 | BR9: 0 | BS9: 36.479956 | BT9: 0 | BU9: 0
A10: {=IFERROR(_xlfn.XLOOKUP(B10,Com_codes_core,Com_labels_core),"")} -> Root crop products contain starch | B10: c_003 | C10: 0.27510992 | D10: 0.15597366 | E10: 1.192324 | F10: 0.047649375 | G10: 8.3945553 | H10: 0.081810731 | I10: 13.979625 | K10: {=IFERROR(_xlfn.XLOOKUP(L10,Act_codes_core,Act_labels_core),"")} -> Root crop products contain starch | L10: a_003 | M10: 0.9665946 | N10: 8.3621678 | O10: 3.5585882 | P10: 6.9323232 | Q10: 47.379334 | R10: 29.830797 | S10: 0.39609578 | T10: 0 | U10: 2.5740993 | V10: 0 | W10: 0 | Z10: {=IFERROR(_xlfn.XLOOKUP(AA10,Act_codes_core,Act_labels_core),"")} -> Root crop products contain starch | AA10: a_003 | AB10: 0.011098156 | AC10: 0.26406637 | AD10: 0.7036331 | AE10: 0.15591256 | AF10: 0.71592721 | AG10: 2.2309194 | AH10: 0.64580433 | AI10: 0 | AJ10: 1.671378 | AK10: 0 | AL10: 0 | AN10: {=IFERROR(_xlfn.XLOOKUP(AO10,Act_codes_core,Act_labels_core),"")} -> Root crop products contain starch | AO10: a_003 | AP10: 57.288815 | AQ10: 42.711185 | AR10: 0.3 | AU10: {=IFERROR(_xlfn.XLOOKUP(AV10,Act_codes_core,Act_labels_core),"")} -> Root crop products contain starch | AV10: a_003 | AW10: 0.04204256 | AX10: 0.043590969 | AY10: 0.035721984 | AZ10: 0.026577904 | BA10: 0.028021498 | BB10: 0.024493804 | BC10: 1 | BD10: 0 | BE10: 1 | BF10: 0 | BG10: 0 | BI10: {=IFERROR(_xlfn.XLOOKUP(BJ10,Act_codes_core,Act_labels_core),"")} -> Root crop products contain starch | BJ10: a_003 | BK10: 7.6085903 | BL10: 0.91187867 | BM10: 1.7559706 | BN10: 0.67065836 | BO10: 0.10345746 | BP10: 0.14363187 | BQ10: 441.63064 | BR10: 0 | BS10: 67.956986 | BT10: 0 | BU10: 0
A11: {=IFERROR(_xlfn.XLOOKUP(B11,Com_codes_core,Com_labels_core),"")} -> Oil-bearing plant products | B11: c_004 | C11: 0.11058441 | D11: 0.065175798 | E11: 0.17515932 | F11: 0.0083776118 | G11: 3.7571065 | H11: 0.28006535 | I11: 55.249803 | K11: {=IFERROR(_xlfn.XLOOKUP(L11,Act_codes_core,Act_labels_core),"")} -> Oil-bearing plant products | L11: a_004 | M11: 0.57645425 | N11: 7.3933045 | O11: 0.78430054 | P11: 10.386747 | Q11: 60.662248 | R11: 15.801246 | S11: 0.27950397 | T11: 0 | U11: 4.1161956 | V11: 0 | W11: 0 | Z11: {=IFERROR(_xlfn.XLOOKUP(AA11,Act_codes_core,Act_labels_core),"")} -> Oil-bearing plant products | AA11: a_004 | AB11: 0.0027493771 | AC11: 0.096983043 | AD11: 0.064419008 | AE11: 0.097038676 | AF11: 0.38076885 | AG11: 0.49087776 | AH11: 0.18930048 | AI11: 0 | AJ11: 1.1102183 | AK11: 0 | AL11: 0 | AN11: {=IFERROR(_xlfn.XLOOKUP(AO11,Act_codes_core,Act_labels_core),"")} -> Oil-bearing plant products | AO11: a_004 | AP11: 55.472338 | AQ11: 44.527662 | AR11: 0.3 | AU11: {=IFERROR(_xlfn.XLOOKUP(AV11,Act_codes_core,Act_labels_core),"")} -> Oil-bearing plant products | AV11: a_004 | AW11: 0.068753289 | AX11: 0.12817428 | AY11: 0.065844284 | AZ11: 0.074309064 | BA11: 0.077120787 | BB11: 0.067591971 | BC11: 1 | BD11: 0 | BE11: 1 | BF11: 0 | BG11: 0 | BI11: {=IFERROR(_xlfn.XLOOKUP(BJ11,Act_codes_core,Act_labels_core),"")} -> Oil-bearing plant products | BJ11: a_004 | BK11: 21.573697 | BL11: 3.1358712 | BM11: 15.185584 | BN11: 1.2940712 | BO11: 0.2299582 | BP11: 0.77374831 | BQ11: 647.15447 | BR11: 0 | BS11: 43.944035 | BT11: 0 | BU11: 0
A12: {=IFERROR(_xlfn.XLOOKUP(B12,Com_codes_core,Com_labels_core),"")} -> Fresh sugar cane | B12: c_005 | C12: 0.132166 | D12: 0.091709153 | E12: 0.57131065 | F12: 0.00051540313 | G12: 0.16557318 | H12: 0.0017848898 | I12: 0.56563179 | K12: {=IFERROR(_xlfn.XLOOKUP(L12,Act_codes_core,Act_labels_core),"")} -> Fresh sugar cane | L12: a_005 | M12: 1.9680293 | N12: 9.4458176 | O12: 1.3246301 | P12: 8.769445 | Q12: 54.71526 | R12: 21.68272 | S12: 0.13315489 | T12: 0 | U12: 1.9609437 | V12: 0 | W12: 0 | Z12: {=IFERROR(_xlfn.XLOOKUP(AA12,Act_codes_core,Act_labels_core),"")} -> Fresh sugar cane | AA12: a_005 | AB12: 0.011101566 | AC12: 0.14654803 | AD12: 0.1286795 | AE12: 0.096899299 | AF12: 0.40619502 | AG12: 0.79667097 | AH12: 0.10666061 | AI12: 0 | AJ12: 0.62554812 | AK12: 0 | AL12: 0 | AN12: {=IFERROR(_xlfn.XLOOKUP(AO12,Act_codes_core,Act_labels_core),"")} -> Fresh sugar cane | AO12: a_005 | AP12: 46.807437 | AQ12: 53.192563 | AR12: 0.3 | AU12: {=IFERROR(_xlfn.XLOOKUP(AV12,Act_codes_core,Act_labels_core),"")} -> Fresh sugar cane | AV12: a_005 | AW12: 0.029799897 | AX12: 0.035021395 | AY12: 0.037475027 | AZ12: 0.025527514 | BA12: 0.02877219 | BB12: 0.02667169 | BC12: 1 | BD12: 0 | BE12: 1 | BF12: 0 | BG12: 0 | BI12: {=IFERROR(_xlfn.XLOOKUP(BJ12,Act_codes_core,Act_labels_core),"")} -> Fresh sugar cane | BJ12: a_005 | BK12: 3.2391733 | BL12: 0.79313091 | BM12: 6.0519918 | BN12: 0.62271223 | BO12: 0.1124904 | BP12: 0.26314055 | BQ12: 1606.5486 | BR12: 0 | BS12: 109.09023 | BT12: 0 | BU12: 0
A13: {=IFERROR(_xlfn.XLOOKUP(B13,Com_codes_core,Com_labels_core),"")} -> Vegetables, beans of all kinds | B13: c_006 | C13: 1.1168145 | D13: 0.66110023 | E13: 2.6192435 | F13: 0.015034682 | G13: 0.63015455 | H13: 0.085047884 | I13: 3.6743875 | K13: {=IFERROR(_xlfn.XLOOKUP(L13,Act_codes_core,Act_labels_core),"")} -> Vegetables, beans of all kinds | L13: a_006 | M13: 4.12493 | N13: 12.092515 | O13: 2.8093349 | P13: 8.8180849 | Q13: 54.856794 | R13: 13.181001 | S13: 0.26180435 | T13: 0 | U13: 3.855537 | V13: 0 | W13: 0 | Z13: {=IFERROR(_xlfn.XLOOKUP(AA13,Act_codes_core,Act_labels_core),"")} -> Vegetables, beans of all kinds | AA13: a_006 | AB13: 0.19907009 | AC13: 1.6050693 | AD13: 2.3348284 | AE13: 0.8336035 | AF13: 3.4841214 | AG13: 4.1433378 | AH13: 1.7941574 | AI13: 0 | AJ13: 10.522458 | AK13: 0 | AL13: 0 | AN13: {=IFERROR(_xlfn.XLOOKUP(AO13,Act_codes_core,Act_labels_core),"")} -> Vegetables, beans of all kinds | AO13: a_006 | AP13: 55.170993 | AQ13: 44.829007 | AR13: 0.3 | AU13: {=IFERROR(_xlfn.XLOOKUP(AV13,Act_codes_core,Act_labels_core),"")} -> Vegetables, beans of all kinds | AV13: a_006 | AW13: 0.064974495 | AX13: 0.067883951 | AY13: 0.060230939 | AZ13: 0.045277286 | BA13: 0.051811666 | BB13: 0.043861479 | BC13: 1 | BD13: 0 | BE13: 1 | BF13: 0 | BG13: 0 | BI13: {=IFERROR(_xlfn.XLOOKUP(BJ13,Act_codes_core,Act_labels_core),"")} -> Vegetables, beans of all kinds | BJ13: a_006 | BK13: 2.8616901 | BL13: 1.0198746 | BM13: 3.8950443 | BN13: 0.93282973 | BO13: 0.17159057 | BP13: 0.60454852 | BQ13: 693.936 | BR13: 0 | BS13: 47.120663 | BT13: 0 | BU13: 0
A14: {=IFERROR(_xlfn.XLOOKUP(B14,Com_codes_core,Com_labels_core),"")} -> Annual flower products | B14: c_007 | C14: 0.21966648 | D14: 0.13586917 | E14: 0.20876936 | F14: 0.017835994 | G14: 3.5995075 | H14: 0.0066764347 | I14: 1.4816297 | K14: {=IFERROR(_xlfn.XLOOKUP(L14,Act_codes_core,Act_labels_core),"")} -> Annual flower products | L14: a_007 | M14: 3.9310708 | N14: 11.524203 | O14: 2.6773046 | P14: 8.4036615 | Q14: 52.27869 | R14: 12.561533 | S14: 0.5483343 | T14: 0 | U14: 8.0752027 | V14: 0 | W14: 0 | Z14: {=IFERROR(_xlfn.XLOOKUP(AA14,Act_codes_core,Act_labels_core),"")} -> Annual flower products | AA14: a_007 | AB14: 0.037314845 | AC14: 0.30086344 | AD14: 0.43765371 | AE14: 0.15625545 | AF14: 0.6530838 | AG14: 0.77665113 | AH14: 0.73911234 | AI14: 0 | AJ14: 4.3347805 | AK14: 0 | AL14: 0 | AN14: {=IFERROR(_xlfn.XLOOKUP(AO14,Act_codes_core,Act_labels_core),"")} -> Annual flower products | AO14: a_007 | AP14: 52.813081 | AQ14: 47.186919 | AR14: 0.3 | AU14: {=IFERROR(_xlfn.XLOOKUP(AV14,Act_codes_core,Act_labels_core),"")} -> Annual flower products | AV14: a_007 | AW14: 0.15280255 | AX14: 0.15964481 | AY14: 0.14164698 | AZ14: 0.10648001 | BA14: 0.12184712 | BB14: 0.10315041 | BC14: 1 | BD14: 0 | BE14: 1 | BF14: 0 | BG14: 0 | BI14: {=IFERROR(_xlfn.XLOOKUP(BJ14,Act_codes_core,Act_labels_core),"")} -> Annual flower products | BJ14: a_007 | BK14: 7.3788202 | BL14: 2.6297296 | BM14: 10.043307 | BN14: 2.4052859 | BO14: 0.44244342 | BP14: 1.5588183 | BQ14: 346.19578 | BR14: 0 | BS14: 23.507895 | BT14: 0 | BU14: 0
A15: {=IFERROR(_xlfn.XLOOKUP(B15,Com_codes_core,Com_labels_core),"")} -> Other remaining annual crop products | B15: c_008 | C15: 0.31615657 | D15: 0.1652197 | E15: 0.14799816 | F15: 0.063942164 | G15: 11.308371 | H15: 0.9891137 | I15: 64.53238 | K15: {=IFERROR(_xlfn.XLOOKUP(L15,Act_codes_core,Act_labels_core),"")} -> Other remaining annual crop products | L15: a_008 | M15: 2.6479949 | N15: 5.2904856 | O15: 0.81399598 | P15: 15.232124 | Q15: 56.21412 | R15: 16.650096 | S15: 0.42023179 | T15: 0 | U15: 2.7309515 | V15: 0 | W15: 0 | Z15: {=IFERROR(_xlfn.XLOOKUP(AA15,Act_codes_core,Act_labels_core),"")} -> Other remaining annual crop products | AA15: a_008 | AB15: 0.036176553 | AC15: 0.19878944 | AD15: 0.19151127 | AE15: 0.40763017 | AF15: 1.0107154 | AG15: 1.4816285 | AH15: 0.8152545 | AI15: 0 | AJ15: 2.1099246 | AK15: 0 | AL15: 0 | AN15: {=IFERROR(_xlfn.XLOOKUP(AO15,Act_codes_core,Act_labels_core),"")} -> Other remaining annual crop products | AO15: a_008 | AP15: 62.507954 | AQ15: 37.492046 | AR15: 0.3 | AU15: {=IFERROR(_xlfn.XLOOKUP(AV15,Act_codes_core,Act_labels_core),"")} -> Other remaining annual crop products | AV15: a_008 | AW15: 0.55361322 | AX15: 0.48126099 | AY15: 0.1777194 | AZ15: 0.24137238 | BA15: 0.268335 | BB15: 0.22270015 | BC15: 1 | BD15: 0 | BE15: 1 | BF15: 0 | BG15: 0 | BI15: {=IFERROR(_xlfn.XLOOKUP(BJ15,Act_codes_core,Act_labels_core),"")} -> Other remaining annual crop products | BJ15: a_008 | BK15: 33.531955 | BL15: 14.58998 | BM15: 35.017258 | BN15: 2.5415385 | BO15: 0.7655992 | BP15: 2.1452274 | BQ15: 381.66353 | BR15: 0 | BS15: 58.729402 | BT15: 0 | BU15: 0
A16: {=IFERROR(_xlfn.XLOOKUP(B16,Com_codes_core,Com_labels_core),"")} -> Fruit tree products | B16: c_009 | C16: 1.1103857 | D16: 0.73155061 | E16: 2.2220378 | F16: 0.90098457 | G16: 34.117775 | H16: 0.42336774 | I16: 19.922762 | K16: {=IFERROR(_xlfn.XLOOKUP(L16,Act_codes_core,Act_labels_core),"")} -> Fruit tree products | L16: a_009 | M16: 2.4146031 | N16: 7.9680805 | O16: 2.3211233 | P16: 11.097277 | Q16: 55.172838 | R16: 15.268416 | S16: 0.76782359 | T16: 0 | U16: 4.9898391 | V16: 0 | W16: 0 | Z16: {=IFERROR(_xlfn.XLOOKUP(AA16,Act_codes_core,Act_labels_core),"")} -> Fruit tree products | AA16: a_009 | AB16: 0.11590697 | AC16: 1.0519746 | AD16: 1.9187751 | AE16: 1.0434606 | AF16: 3.4854798 | AG16: 4.7738672 | AH16: 5.2338289 | AI16: 0 | AJ16: 13.545444 | AK16: 0 | AL16: 0 | AN16: {=IFERROR(_xlfn.XLOOKUP(AO16,Act_codes_core,Act_labels_core),"")} -> Fruit tree products | AO16: a_009 | AP16: 49.552366 | AQ16: 50.447634 | AR16: 0.3 | AU16: {=IFERROR(_xlfn.XLOOKUP(AV16,Act_codes_core,Act_labels_core),"")} -> Fruit tree products | AV16: a_009 | AW16: 0.073205809 | AX16: 0.0627378 | AY16: 0.058609613 | AZ16: 0.060210952 | BA16: 0.061298499 | BB16: 0.053031487 | BC16: 1 | BD16: 0 | BE16: 1 | BF16: 0 | BG16: 0 | BI16: {=IFERROR(_xlfn.XLOOKUP(BJ16,Act_codes_core,Act_labels_core),"")} -> Fruit tree products | BJ16: a_009 | BK16: 6.1302632 | BL16: 1.5920434 | BM16: 5.1056376 | BN16: 1.0970803 | BO16: 0.22464867 | BP16: 0.70229433 | BQ16: 263.34064 | BR16: 0 | BS16: 40.52218 | BT16: 0 | BU16: 0
A17: {=IFERROR(_xlfn.XLOOKUP(B17,Com_codes_core,Com_labels_core),"")} -> Dried cashews | B17: c_010 | C17: 0.06418105 | D17: 0.031602935 | E17: 0.3041144 | F17: 0.028568536 | G17: 26.615692 | H17: 0.76013019 | I17: 88.051155 | K17: {=IFERROR(_xlfn.XLOOKUP(L17,Act_codes_core,Act_labels_core),"")} -> Dried cashews | L17: a_010 | M17: 1.820451 | N17: 9.0351653 | O17: 2.5688752 | P17: 7.6615276 | Q17: 55.587765 | R17: 20.65773 | S17: 0.35586076 | T17: 0 | U17: 2.3126249 | V17: 0 | W17: 0 | Z17: {=IFERROR(_xlfn.XLOOKUP(AA17,Act_codes_core,Act_labels_core),"")} -> Dried cashews | AA17: a_010 | AB17: 0.0050488401 | AC17: 0.068918604 | AD17: 0.12269241 | AE17: 0.041622085 | AF17: 0.20289216 | AG17: 0.37317091 | AH17: 0.14014803 | AI17: 0 | AJ17: 0.36271099 | AK17: 0 | AL17: 0 | AN17: {=IFERROR(_xlfn.XLOOKUP(AO17,Act_codes_core,Act_labels_core),"")} -> Dried cashews | AO17: a_010 | AP17: 66.359519 | AQ17: 33.640481 | AR17: 0.3 | AU17: {=IFERROR(_xlfn.XLOOKUP(AV17,Act_codes_core,Act_labels_core),"")} -> Dried cashews | AV17: a_010 | AW17: 0.037594802 | AX17: 0.029357107 | AY17: 0.025990775 | AZ17: 0.031913381 | BA17: 0.028478816 | BB17: 0.019212951 | BC17: 1 | BD17: 0 | BE17: 1 | BF17: 0 | BG17: 0 | BI17: {=IFERROR(_xlfn.XLOOKUP(BJ17,Act_codes_core,Act_labels_core),"")} -> Dried cashews | BJ17: a_010 | BK17: 3.120893 | BL17: 0.49102909 | BM17: 1.5289958 | BN17: 0.62948808 | BO17: 0.077423497 | BP17: 0.14055346 | BQ17: 424.66841 | BR17: 0 | BS17: 65.346882 | BT17: 0 | BU17: 0
A18: {=IFERROR(_xlfn.XLOOKUP(B18,Com_codes_core,Com_labels_core),"")} -> Pepper seeds | B18: c_011 | C18: 0.15167401 | D18: 0.067942572 | E18: 0.5235797 | F18: 0.21834967 | G18: 94.771024 | H18: 0.025149647 | I18: 66.520805 | K18: {=IFERROR(_xlfn.XLOOKUP(L18,Act_codes_core,Act_labels_core),"")} -> Pepper seeds | L18: a_011 | M18: 2.1808601 | N18: 11.42581 | O18: 2.0117684 | P18: 10.929688 | Q18: 51.869325 | R18: 9.8854014 | S18: 1.5598945 | T18: 0 | U18: 10.137253 | V18: 0 | W18: 0 | Z18: {=IFERROR(_xlfn.XLOOKUP(AA18,Act_codes_core,Act_labels_core),"")} -> Pepper seeds | AA18: a_011 | AB18: 0.014301711 | AC18: 0.20607956 | AD18: 0.22719576 | AE18: 0.14039892 | AF18: 0.4476558 | AG18: 0.42224746 | AH18: 1.4526121 | AI18: 0 | AJ18: 3.759442 | AK18: 0 | AL18: 0 | AN18: {=IFERROR(_xlfn.XLOOKUP(AO18,Act_codes_core,Act_labels_core),"")} -> Pepper seeds | AO18: a_011 | AP18: 73.014388 | AQ18: 26.985612 | AR18: 0.3 | AU18: {=IFERROR(_xlfn.XLOOKUP(AV18,Act_codes_core,Act_labels_core),"")} -> Pepper seeds | AV18: a_011 | AW18: 0.030625337 | AX18: 0.035037487 | AY18: 0.028640762 | AZ18: 0.034905683 | BA18: 0.032869309 | BB18: 0.028006792 | BC18: 1 | BD18: 0 | BE18: 1 | BF18: 0 | BG18: 0 | BI18: {=IFERROR(_xlfn.XLOOKUP(BJ18,Act_codes_core,Act_labels_core),"")} -> Pepper seeds | BJ18: a_011 | BK18: 1.930607 | BL18: 0.42158657 | BM18: 1.9572549 | BN18: 0.43906536 | BO18: 0.087120584 | BP18: 0.38950215 | BQ18: 88.134426 | BR18: 0 | BS18: 13.561899 | BT18: 0 | BU18: 0
A19: {=IFERROR(_xlfn.XLOOKUP(B19,Com_codes_core,Com_labels_core),"")} -> Dried latex | B19: c_012 | C19: 0.47654668 | D19: 0.22826769 | E19: 0.65491467 | F19: 0.36051259 | G19: 46.121152 | H19: 0.14175762 | I19: 24.87901 | K19: {=IFERROR(_xlfn.XLOOKUP(L19,Act_codes_core,Act_labels_core),"")} -> Dried latex | L19: a_012 | M19: 4.2912889 | N19: 7.036286 | O19: 1.2262701 | P19: 14.011918 | Q19: 50.895312 | R19: 16.91793 | S19: 0.74959801 | T19: 0 | U19: 4.8713969 | V19: 0 | W19: 0 | Z19: {=IFERROR(_xlfn.XLOOKUP(AA19,Act_codes_core,Act_labels_core),"")} -> Dried latex | AA19: a_012 | AB19: 0.09220742 | AC19: 0.4158238 | AD19: 0.45376009 | AE19: 0.58975486 | AF19: 1.4392271 | AG19: 2.3677612 | AH19: 2.2871824 | AI19: 0 | AJ19: 5.9193569 | AK19: 0 | AL19: 0 | AN19: {=IFERROR(_xlfn.XLOOKUP(AO19,Act_codes_core,Act_labels_core),"")} -> Dried latex | AO19: a_012 | AP19: 68.308844 | AQ19: 31.691156 | AR19: 0.3 | AU19: {=IFERROR(_xlfn.XLOOKUP(AV19,Act_codes_core,Act_labels_core),"")} -> Dried latex | AV19: a_012 | AW19: 0.13261107 | AX19: 0.094348856 | AY19: 0.08181549 | AZ19: 0.10992378 | BA19: 0.084427069 | BB19: 0.074458005 | BC19: 1 | BD19: 0 | BE19: 1 | BF19: 0 | BG19: 0 | BI19: {=IFERROR(_xlfn.XLOOKUP(BJ19,Act_codes_core,Act_labels_core),"")} -> Dried latex | BJ19: a_012 | BK19: 4.5429143 | BL19: 1.9712225 | BM19: 9.8082584 | BN19: 1.1532848 | BO19: 0.24386329 | BP19: 0.64700354 | BQ19: 196.11647 | BR19: 0 | BS19: 30.177898 | BT19: 0 | BU19: 0
... A184: {=IFERROR(_xlfn.XLOOKUP(B184,Com_codes_core,Com_labels_core),"")} | B184: TOTAL-2 | C184: 100 | D184: 100 | E184: 100 | F184: 100 | G184: 28.962776 | H184: 100 | I184: 28.803989 | K184: {=IFERROR(_xlfn.XLOOKUP(L184,Act_codes_core,Act_labels_core),"")} -> Other personal services | L184: a_177 | M184: 25.843317 | N184: 27.232967 | O184: 1.1439354 | P184: 11.745877 | Q184: 26.751289 | R184: 3.3054366 | S184: 0 | T184: 3.9771776 | U184: 0 | V184: 0 | W184: 0 | Z184: {=IFERROR(_xlfn.XLOOKUP(AA184,Act_codes_core,Act_labels_core),"")} -> Other personal services | AA184: a_177 | AB184: 0.45052503 | AC184: 1.30573 | AD184: 0.34342682 | AE184: 0.40109935 | AF184: 0.61374622 | AG184: 0.37532894 | AH184: 0 | AI184: 0.048292048 | AJ184: 0 | AK184: 0 | AL184: 0 | AN184: {=IFERROR(_xlfn.XLOOKUP(AO184,Act_codes_core,Act_labels_core),"")} -> Other personal services | AO184: a_177 | AP184: 59.768813 | AQ184: 40.231187 | AR184: 0.9 | AU184: {=IFERROR(_xlfn.XLOOKUP(AV184,Act_codes_core,Act_labels_core),"")} -> Other personal services | AV184: a_177 | AW184: 0.049820516 | AX184: 0.044047881 | AY184: 0.017656446 | AZ184: 0.036020246 | BA184: 0.037629547 | BB184: 0.046436234 | BC184: 0 | BD184: 1 | BE184: 0 | BF184: 0 | BG184: 0 | BI184: {=IFERROR(_xlfn.XLOOKUP(BJ184,Act_codes_core,Act_labels_core),"")} -> Other personal services | BJ184: a_177 | BK184: 0.32275744 | BL184: 0.27079856 | BM184: 2.5841522 | BN184: 0.51342559 | BO184: 0.23550523 | BP184: 2.3520386 | BQ184: 0 | BR184: 42.096045 | BS184: 0 | BT184: 0 | BU184: 0
K185: {=IFERROR(_xlfn.XLOOKUP(L185,Act_codes_core,Act_labels_core),"")} -> Household chores service for households | L185: a_178 | M185: 16.63963 | N185: 36.080882 | O185: 7.2259147 | P185: 4.1333015 | Q185: 25.597453 | R185: 8.0087605 | S185: 0 | T185: 2.3140585 | U185: 0 | V185: 0 | W185: 0 | Z185: {=IFERROR(_xlfn.XLOOKUP(AA185,Act_codes_core,Act_labels_core),"")} -> Household chores service for households | AA185: a_178 | AB185: 0.10300711 | AC185: 0.61431118 | AD185: 0.77033285 | AE185: 0.050120623 | AF185: 0.2085421 | AG185: 0.3229248 | AH185: 0 | AI185: 0.0099776402 | AJ185: 0 | AK185: 0 | AL185: 0 | AN185: {=IFERROR(_xlfn.XLOOKUP(AO185,Act_codes_core,Act_labels_core),"")} -> Household chores service for households | AO185: a_178 | AP185: 89.068593 | AQ185: 10.931407 | AR185: 0.9 | AU185: {=IFERROR(_xlfn.XLOOKUP(AV185,Act_codes_core,Act_labels_core),"")} -> Household chores service for households | AV185: a_178 | AW185: 0.11824203 | AX185: 0.050271734 | AY185: 0.024578239 | AZ185: 0.053490014 | BA185: 0.041970523 | BB185: 0.034360469 | BC185: 0 | BD185: 1 | BE185: 0 | BF185: 0 | BG185: 0 | BI185: {=IFERROR(_xlfn.XLOOKUP(BJ185,Act_codes_core,Act_labels_core),"")} -> Household chores service for households | BJ185: a_178 | BK185: 0.79842503 | BL185: 0.15654985 | BM185: 0.38217639 | BN185: 1.4540574 | BO185: 0.18422711 | BP185: 0.48205845 | BQ185: 0 | BR185: 48.554734 | BS185: 0 | BT185: 0 | BU185: 0
L186: total | M186: 23.141502 | N186: 8.4140252 | O186: 1.3437841 | P186: 11.813966 | Q186: 17.584018 | R186: 3.5528674 | S186: 0.16296611 | T186: 33.22474 | U186: 0.40921227 | V186: 0.10523514 | W186: 0.24768432 | AA186: total | AB186: 100 | AC186: 100 | AD186: 100 | AE186: 100 | AF186: 100 | AG186: 100 | AH186: 100 | AI186: 100 | AJ186: 100 | AK186: 100 | AL186: 100 | AO186: total | AP186: 32.736865 | AQ186: 67.263135 | AR186: 0

Sheet Raw_Basedata
C3: strucbase | L3: factab1 | Z3: factab2 | AN3: factab3 | AT3: factab4A | BH3: factab5
C7: VAshr | D7: PRDshr | E7: EMPshr | F7: EXPshr | G7: EXP-OUTshr | H7: IMPshr | I7: IMP-DEMshr | M7: flab_u_t | N7: flab_u_s | O7: flab_u_p | P7: flab_r_t | Q7: flab_r_s | R7: flab_r_p | S7: fcap_ag | T7: fcap_na | U7: flnd | V7: fliv | W7: ffsh | X7: total | AA7: flab_u_t | AB7: flab_u_s | AC7: flab_u_p | AD7: flab_r_t | AE7: flab_r_s | AF7: flab_r_p | AG7: fcap_ag | AH7: fcap_na | AI7: flnd | AJ7: fliv | AK7: ffsh | AL7: total | AO7: QVASHR | AP7: QINTSHR | AQ7: SIGMAVA | AU7: flab_u_t | AV7: flab_u_s | AW7: flab_u_p | AX7: flab_r_t | AY7: flab_r_s | AZ7: flab_r_p | BA7: fcap_ag | BB7: fcap_na | BC7: flnd | BD7: fliv | BE7: ffsh | BI7: flab_u_t | BJ7: flab_u_s | BK7: flab_u_p | BL7: flab_r_t | BM7: flab_r_s | BN7: flab_r_p | BO7: fcap_ag | BP7: fcap_na | BQ7: flnd | BR7: fliv | BS7: ffsh
B8: c_001 | C8: 2.1376632 | D8: 1.269708 | E8: 12.078952 | H8: 0.0061127836 | I8: 0.14859367 | L8: a_001 | M8: 1.7893111 | N8: 7.4332119 | O8: 1.5092869 | P8: 9.7543785 | Q8: 57.280053 | R8: 15.951358 | S8: 0.39947132 | U8: 5.8829292 | X8: 100 | Z8: a_001 | AA8: 0.16531459 | AB8: 1.8888158 | AC8: 2.4013706 | AD8: 1.7653092 | AE8: 6.9646965 | AF8: 9.5992116 | AG8: 5.240892 | AI8: 30.737028 | AL8: 2.1380453 | AN8: a_001 | AO8: 54.963513 | AP8: 45.036487 | AQ8: 0.3 | AT8: a_001 | AU8: 0.044605137 | AV8: 0.033239272 | AW8: 0.025560307 | AX8: 0.021001924 | AY8: 0.021026691 | AZ8: 0.017201054 | BA8: 1 | BC8: 1 | BH8: a_001 | BI8: 4.5443483 | BJ8: 0.81516884 | BK8: 3.0872149 | BL8: 0.39249312 | BM8: 0.06691756 | BN8: 0.19657577 | BO8: 456.33836 | BQ8: 30.986959
B9: c_002 | C9: 0.24573955 | D9: 0.14001467 | E9: 1.4866411 | F9: 0.022951511 | G9: 4.9276338 | H9: 1.1585539 | I9: 71.248412 | L9: a_002 | M9: 0.8922897 | N9: 2.6453413 | O9: 2.4319939 | P9: 10.267347 | Q9: 54.004308 | R9: 24.640068 | S9: 0.32547349 | U9: 4.793179 | X9: 100 | Z9: a_002 | AA9: 0.0094722393 | AB9: 0.07723537 | AC9: 0.4446019 | AD9: 0.21350145 | AE9: 0.75448155 | AF9: 1.7037318 | AG9: 0.4906329 | AI9: 2.8774867 | AL9: 0.24566219 | AN9: a_002 | AO9: 57.283761 | AP9: 42.716239 | AQ9: 0.3 | AT9: a_002 | AU9: 0.026968341 | AV9: 0.02519254 | AW9: 0.02531659 | AX9: 0.021121897 | AY9: 0.021141494 | AZ9: 0.016671366 | BA9: 1 | BC9: 1 | BH9: a_002 | BI9: 5.2847724 | BJ9: 1.6652068 | BK9: 1.8202065 | BL9: 0.35971011 | BM9: 0.068451854 | BN9: 0.11830613 | BO9: 537.23256 | BQ9: 36.479956
B10: c_003 | C10: 0.27510992 | D10: 0.15597366 | E10: 1.192324 | F10: 0.047649375 | G10: 8.3945553 | H10: 0.081810731 | I10: 13.979625 | L10: a_003 | M10: 0.9665946 | N10: 8.3621678 | O10: 3.5585882 | P10: 6.9323232 | Q10: 47.379334 | R10: 29.830797 | S10: 0.39609578 | U10: 2.5740993 | X10: 100 | Z10: a_003 | AA10: 0.011098156 | AB10: 0.26406637 | AC10: 0.7036331 | AD10: 0.15591256 | AE10: 0.71592721 | AF10: 2.2309194 | AG10: 0.64580433 | AI10: 1.671378 | AL10: 0.26570396 | AN10: a_003 | AO10: 57.288815 | AP10: 42.711185 | AQ10: 0.3 | AT10: a_003 | AU10: 0.04204256 | AV10: 0.043590969 | AW10: 0.035721984 | AX10: 0.026577904 | AY10: 0.028021498 | AZ10: 0.024493804 | BA10: 1 | BC10: 1 | BH10: a_003 | BI10: 7.6085903 | BJ10: 0.91187867 | BK10: 1.7559706 | BL10: 0.67065836 | BM10: 0.10345746 | BN10: 0.14363187 | BO10: 441.63064 | BQ10: 67.956986
B11: c_004 | C11: 0.11058441 | D11: 0.065175798 | E11: 0.17515932 | F11: 0.0083776118 | G11: 3.7571065 | H11: 0.28006535 | I11: 55.249803 | L11: a_004 | M11: 0.57645425 | N11: 7.3933045 | O11: 0.78430054 | P11: 10.386747 | Q11: 60.662248 | R11: 15.801246 | S11: 0.27950397 | U11: 4.1161956 | X11: 100 | Z11: a_004 | AA11: 0.0027493771 | AB11: 0.096983043 | AC11: 0.064419008 | AD11: 0.097038676 | AE11: 0.38076885 | AF11: 0.49087776 | AG11: 0.18930048 | AI11: 1.1102183 | AL11: 0.11037254 | AN11: a_004 | AO11: 55.472338 | AP11: 44.527662 | AQ11: 0.3 | AT11: a_004 | AU11: 0.068753289 | AV11: 0.12817428 | AW11: 0.065844284 | AX11: 0.074309064 | AY11: 0.077120787 | AZ11: 0.067591971 | BA11: 1 | BC11: 1 | BH11: a_004 | BI11: 21.573697 | BJ11: 3.1358712 | BK11: 15.185584 | BL11: 1.2940712 | BM11: 0.2299582 | BN11: 0.77374831 | BO11: 647.15447 | BQ11: 43.944035
B12: c_005 | C12: 0.132166 | D12: 0.091709153 | E12: 0.57131065 | F12: 0.00051540313 | G12: 0.16557318 | H12: 0.0017848898 | I12: 0.56563179 | L12: a_005 | M12: 1.9680293 | N12: 9.4458176 | O12: 1.3246301 | P12: 8.769445 | Q12: 54.71526 | R12: 21.68272 | S12: 0.13315489 | U12: 1.9609437 | X12: 100 | Z12: a_005 | AA12: 0.011101566 | AB12: 0.14654803 | AC12: 0.1286795 | AD12: 0.096899299 | AE12: 0.40619502 | AF12: 0.79667097 | AG12: 0.10666061 | AI12: 0.62554812 | AL12: 0.13054019 | AN12: a_005 | AO12: 46.807437 | AP12: 53.192563 | AQ12: 0.3 | AT12: a_005 | AU12: 0.029799897 | AV12: 0.035021395 | AW12: 0.037475027 | AX12: 0.025527514 | AY12: 0.02877219 | AZ12: 0.02667169 | BA12: 1 | BC12: 1 | BH12: a_005 | BI12: 3.2391733 | BJ12: 0.79313091 | BK12: 6.0519918 | BL12: 0.62271223 | BM12: 0.1124904 | BN12: 0.26314055 | BO12: 1606.5486 | BQ12: 109.09023
B13: c_006 | C13: 1.1168145 | D13: 0.66110023 | E13: 2.6192435 | F13: 0.015034682 | G13: 0.63015455 | H13: 0.085047884 | I13: 3.6743875 | L13: a_006 | M13: 4.12493 | N13: 12.092515 | O13: 2.8093349 | P13: 8.8180849 | Q13: 54.856794 | R13: 13.181001 | S13: 0.26180435 | U13: 3.855537 | X13: 100 | Z13: a_006 | AA13: 0.19907009 | AB13: 1.6050693 | AC13: 2.3348284 | AD13: 0.8336035 | AE13: 3.4841214 | AF13: 4.1433378 | AG13: 1.7941574 | AI13: 10.522458 | AL13: 1.1168143 | AN13: a_006 | AO13: 55.170993 | AP13: 44.829007 | AQ13: 0.3 | AT13: a_006 | AU13: 0.064974495 | AV13: 0.067883951 | AW13: 0.060230939 | AX13: 0.045277286 | AY13: 0.051811666 | AZ13: 0.043861479 | BA13: 1 | BC13: 1 | BH13: a_006 | BI13: 2.8616901 | BJ13: 1.0198746 | BK13: 3.8950443 | BL13: 0.93282973 | BM13: 0.17159057 | BN13: 0.60454852 | BO13: 693.936 | BQ13: 47.120663
B14: c_007 | C14: 0.21966648 | D14: 0.13586917 | E14: 0.20876936 | F14: 0.017835994 | G14: 3.5995075 | H14: 0.0066764347 | I14: 1.4816297 | L14: a_007 | M14: 3.9310708 | N14: 11.524203 | O14: 2.6773046 | P14: 8.4036615 | Q14: 52.27869 | R14: 12.561533 | S14: 0.5483343 | U14: 8.0752027 | X14: 100 | Z14: a_007 | AA14: 0.037314845 | AB14: 0.30086344 | AC14: 0.43765371 | AD14: 0.15625545 | AE14: 0.6530838 | AF14: 0.77665113 | AG14: 0.73911234 | AI14: 4.3347805 | AL14: 0.21966574 | AN14: a_007 | AO14: 52.813081 | AP14: 47.186919 | AQ14: 0.3 | AT14: a_007 | AU14: 0.15280255 | AV14: 0.15964481 | AW14: 0.14164698 | AX14: 0.10648001 | AY14: 0.12184712 | AZ14: 0.10315041 | BA14: 1 | BC14: 1 | BH14: a_007 | BI14: 7.3788202 | BJ14: 2.6297296 | BK14: 10.043307 | BL14: 2.4052859 | BM14: 0.44244342 | BN14: 1.5588183 | BO14: 346.19578 | BQ14: 23.507895
B15: c_008 | C15: 0.31615657 | D15: 0.1652197 | E15: 0.14799816 | F15: 0.063942164 | G15: 11.308371 | H15: 0.9891137 | I15: 64.53238 | L15: a_008 | M15: 2.6479949 | N15: 5.2904856 | O15: 0.81399598 | P15: 15.232124 | Q15: 56.21412 | R15: 16.650096 | S15: 0.42023179 | U15: 2.7309515 | X15: 100 | Z15: a_008 | AA15: 0.036176553 | AB15: 0.19878944 | AC15: 0.19151127 | AD15: 0.40763017 | AE15: 1.0107154 | AF15: 1.4816285 | AG15: 0.8152545 | AI15: 2.1099246 | AL15: 0.31615611 | AN15: a_008 | AO15: 62.507954 | AP15: 37.492046 | AQ15: 0.3 | AT15: a_008 | AU15: 0.55361322 | AV15: 0.48126099 | AW15: 0.1777194 | AX15: 0.24137238 | AY15: 0.268335 | AZ15: 0.22270015 | BA15: 1 | BC15: 1 | BH15: a_008 | BI15: 33.531955 | BJ15: 14.58998 | BK15: 35.017258 | BL15: 2.5415385 | BM15: 0.7655992 | BN15: 2.1452274 | BO15: 381.66353 | BQ15: 58.729402
B16: c_009 | C16: 1.1103857 | D16: 0.73155061 | E16: 2.2220378 | F16: 0.90098457 | G16: 34.117775 | H16: 0.42336774 | I16: 19.922762 | L16: a_009 | M16: 2.4146031 | N16: 7.9680805 | O16: 2.3211233 | P16: 11.097277 | Q16: 55.172838 | R16: 15.268416 | S16: 0.76782359 | U16: 4.9898391 | X16: 100 | Z16: a_009 | AA16: 0.11590697 | AB16: 1.0519746 | AC16: 1.9187751 | AD16: 1.0434606 | AE16: 3.4854798 | AF16: 4.7738672 | AG16: 5.2338289 | AI16: 13.545444 | AL16: 1.1108498 | AN16: a_009 | AO16: 49.552366 | AP16: 50.447634 | AQ16: 0.3 | AT16: a_009 | AU16: 0.073205809 | AV16: 0.0627378 | AW16: 0.058609613 | AX16: 0.060210952 | AY16: 0.061298499 | AZ16: 0.053031487 | BA16: 1 | BC16: 1 | BH16: a_009 | BI16: 6.1302632 | BJ16: 1.5920434 | BK16: 5.1056376 | BL16: 1.0970803 | BM16: 0.22464867 | BN16: 0.70229433 | BO16: 263.34064 | BQ16: 40.52218
B17: c_010 | C17: 0.06418105 | D17: 0.031602935 | E17: 0.3041144 | F17: 0.028568536 | G17: 26.615692 | H17: 0.76013019 | I17: 88.051155 | L17: a_010 | M17: 1.820451 | N17: 9.0351653 | O17: 2.5688752 | P17: 7.6615276 | Q17: 55.587765 | R17: 20.65773 | S17: 0.35586076 | U17: 2.3126249 | X17: 100 | Z17: a_010 | AA17: 0.0050488401 | AB17: 0.068918604 | AC17: 0.12269241 | AD17: 0.041622085 | AE17: 0.20289216 | AF17: 0.37317091 | AG17: 0.14014803 | AI17: 0.36271099 | AL17: 0.064180659 | AN17: a_010 | AO17: 66.359519 | AP17: 33.640481 | AQ17: 0.3 | AT17: a_010 | AU17: 0.037594802 | AV17: 0.029357107 | AW17: 0.025990775 | AX17: 0.031913381 | AY17: 0.028478816 | AZ17: 0.019212951 | BA17: 1 | BC17: 1 | BH17: a_010 | BI17: 3.120893 | BJ17: 0.49102909 | BK17: 1.5289958 | BL17: 0.62948808 | BM17: 0.077423497 | BN17: 0.14055346 | BO17: 424.66841 | BQ17: 65.346882
B18: c_011 | C18: 0.15167401 | D18: 0.067942572 | E18: 0.5235797 | F18: 0.21834967 | G18: 94.771024 | H18: 0.025149647 | I18: 66.520805 | L18: a_011 | M18: 2.1808601 | N18: 11.42581 | O18: 2.0117684 | P18: 10.929688 | Q18: 51.869325 | R18: 9.8854014 | S18: 1.5598945 | U18: 10.137253 | X18: 100 | Z18: a_011 | AA18: 0.014301711 | AB18: 0.20607956 | AC18: 0.22719576 | AD18: 0.14039892 | AE18: 0.4476558 | AF18: 0.42224746 | AG18: 1.4526121 | AI18: 3.759442 | AL18: 0.15175805 | AN18: a_011 | AO18: 73.014388 | AP18: 26.985612 | AQ18: 0.3 | AT18: a_011 | AU18: 0.030625337 | AV18: 0.035037487 | AW18: 0.028640762 | AX18: 0.034905683 | AY18: 0.032869309 | AZ18: 0.028006792 | BA18: 1 | BC18: 1 | BH18: a_011 | BI18: 1.930607 | BJ18: 0.42158657 | BK18: 1.9572549 | BL18: 0.43906536 | BM18: 0.087120584 | BN18: 0.38950215 | BO18: 88.134426 | BQ18: 13.561899
B19: c_012 | C19: 0.47654668 | D19: 0.22826769 | E19: 0.65491467 | F19: 0.36051259 | G19: 46.121152 | H19: 0.14175762 | I19: 24.87901 | L19: a_012 | M19: 4.2912889 | N19: 7.036286 | O19: 1.2262701 | P19: 14.011918 | Q19: 50.895312 | R19: 16.91793 | S19: 0.74959801 | U19: 4.8713969 | X19: 100 | Z19: a_012 | AA19: 0.09220742 | AB19: 0.4158238 | AC19: 0.45376009 | AD19: 0.58975486 | AE19: 1.4392271 | AF19: 2.3677612 | AG19: 2.2871824 | AI19: 5.9193569 | AL19: 0.49724413 | AN19: a_012 | AO19: 68.308844 | AP19: 31.691156 | AQ19: 0.3 | AT19: a_012 | AU19: 0.13261107 | AV19: 0.094348856 | AW19: 0.08181549 | AX19: 0.10992378 | AY19: 0.084427069 | AZ19: 0.074458005 | BA19: 1 | BC19: 1 | BH19: a_012 | BI19: 4.5429143 | BJ19: 1.9712225 | BK19: 9.8082584 | BL19: 1.1532848 | BM19: 0.24386329 | BN19: 0.64700354 | BO19: 196.11647 | BQ19: 30.177898
B20: c_013 | C20: 0.41559747 | D20: 0.26018119 | E20: 2.5575319 | F20: 0.38805309 | G20: 40.910276 | H20: 0.025499807 | I20: 4.6261774 | L20: a_013 | M20: 3.0035255 | N20: 9.1380941 | O20: 1.817361 | P20: 9.6277014 | Q20: 45.083549 | R20: 10.471398 | S20: 2.7816061 | U20: 18.076765 | X20: 100 | Z20: a_013 | AA20: 0.052711084 | AB20: 0.44107658 | AC20: 0.54925484 | AD20: 0.33097034 | AE20: 1.0412671 | AF20: 1.1969826 | AG20: 6.9320313 | AI20: 17.940487 | AL20: 0.40612729 | AN20: a_013 | AO20: 52.007949 | AP20: 47.992051 | AQ20: 0.3 | AT20: a_013 | AU20: 0.020230701 | AV20: 0.019900571 | AW20: 0.014164472 | AX20: 0.018599499 | AY20: 0.016688236 | AZ20: 0.010818963 | BA20: 1 | BC20: 1 | BH20: a_013 | BI20: 1.301369 | BJ20: 0.42075643 | BK20: 1.5058442 | BL20: 0.37324971 | BM20: 0.071517639 | BN20: 0.19961897 | BO20: 69.45847 | BQ20: 10.688091
... B22: c_015 | C22: 0.12976302 | D22: 0.071025957 | E22: 0.42185479 | F22: 0.033078754 | G22: 13.200416 | H22: 0.02812639 | I22: 11.66003 | L22: a_015 | M22: 3.6852369 | N22: 6.066873 | O22: 2.0257886 | P22: 9.194072 | Q22: 47.338297 | R22: 25.49018 | S22: 0.82675257 | U22: 5.3727996 | X22: 100 | Z22: a_015 | AA22: 0.020664496 | AB22: 0.093564705 | AC22: 0.19562105 | AD22: 0.10098646 | AE22: 0.34933772 | AF22: 0.93098968 | AG22: 0.65830814 | AI22: 1.7037386 | AL22: 0.12976302 | AN22: a_015 | AO22: 59.570332 | AP22: 40.429668 | AQ22: 0.3 | AT22: a_015 | AU22: 0.081710617 | AV22: 0.067285714 | AW22: 0.039182731 | AX22: 0.042730094 | AY22: 0.035592656 | AZ22: 0.031024161 | BA22: 1 | BC22: 1 | BH22: a_015 | BI22: 3.7246822 | BJ22: 1.8630912 | BK22: 3.2492021 | BL22: 0.7807322 | BM22: 0.12630598 | BN22: 0.20445761 | BO22: 203.18918 | BQ22: 31.266228
