BEGIN:VCALENDAR
VERSION:2.0
METHOD:PUBLISH
PRODID::-//Obvius//NONSGML ICal//DA
BEGIN:VEVENT
UID:4677683@www.econ.ku.dk
DESCRIPTION:"Dynamic Pricing Regulation and Welfare in Insurance Markets"\
 , Seminar arranged by Center for Economic Behavior and Inequality (CEBI)\
 n\nhttps://www.econ.ku.dk/cebi/events/seminars/ami-ko-georgetown-universit
 y/
SUMMARY:Ami Ko\, Georgetown University
CATEGORIES:Seminar
LOCATION:CSS\, Øster Farimagsgade 5\, Building 26\, room 26.2.21
ORGANIZER:Center for Economic Behavior and Inequality (CEBI)
DTSTART:20241107T131500Z
DTSTAMP:20241107T131500Z
DTEND:20241107T143000Z
END:VEVENT
END:VCALENDAR
