BEGIN:VCALENDAR
VERSION:2.0
METHOD:PUBLISH
PRODID::-//Obvius//NONSGML ICal//DA
BEGIN:VEVENT
UID:2580884@www.econ.ku.dk
DESCRIPTION:UCPH Conference: "Field days 2017"\, arranged by Steffen Altma
 nn and Alexander Sebald.\n\nhttps://www.econ.ku.dk/Kalender/workshopkonfer
 ence/ucph-conference/
SUMMARY:UCPH Conference: "Field Days 2017"
LOCATION:Department of Economics\, CSS\, room 26.2.21\, 35.3.13
ORGANIZER:Department of Economics\, University of Copenhagen
DTSTART:20171110T080000Z
DTSTAMP:20171110T080000Z
DTEND:20171111T160000Z
END:VEVENT
END:VCALENDAR
