BEGIN:VCALENDAR
VERSION:2.0
METHOD:PUBLISH
PRODID::-//Obvius//NONSGML ICal//DA
BEGIN:VEVENT
UID:2303570@www.econ.ku.dk
DESCRIPTION:Economic Policy Research Network Conference 2017. Conference a
 rranged by Economic Policy Research Network.\n\nhttps://www.econ.ku.dk/Kal
 ender/workshopkonference/23062017/
SUMMARY:EPRN conference 2017
LOCATION:CSS\, Øster Farimagsgade 5\, (lokale 35.01.06)\, 1353 Kbh K
ORGANIZER:Economic Policy Research Network
DTSTART:20170622T101500Z
DTSTAMP:20170622T101500Z
DTEND:20170623T143000Z
END:VEVENT
END:VCALENDAR
