BEGIN:VCALENDAR
VERSION:2.0
METHOD:PUBLISH
PRODID::-//Obvius//NONSGML ICal//DA
BEGIN:VEVENT
UID:4979949@www.econ.ku.dk
DESCRIPTION:"When Income Effects are Large: Labor Supply Responses and the
  Value of Social Insurance Benefits"\, Seminar arranged by Center for Eco
 nomic Behavior and Inequality (CEBI)\n\nhttps://www.econ.ku.dk/cebi/events
 /seminars/giulia-giupponi-bocconi-university/
SUMMARY:Giulia Giupponi\, Bocconi University
CATEGORIES:Seminar
LOCATION:CSS\, Øster Farimagsgade 5\, Building 26\, room 26.2.21
ORGANIZER:Center for Economic Behavior and Inequality (CEBI)
DTSTART:20260430T121500Z
DTSTAMP:20260430T121500Z
DTEND:20260430T133000Z
END:VEVENT
BEGIN:VEVENT
UID:4985197@www.econ.ku.dk
DESCRIPTION:Seminar arranged by Center for Economic Behavior and Inequalit
 y (CEBI)\n\nhttps://www.econ.ku.dk/cebi/events/seminars/luigi-butera-copen
 hagen-bussines-school/
SUMMARY:Luigi Butera\, Copenhagen Business School
CATEGORIES:Seminar
LOCATION:CSS\, Øster Farimagsgade 5\, Building 26\, room 26.2.21
ORGANIZER:Center for Economic Behavior and Inequality (CEBI)
DTSTART:20260507T121500Z
DTSTAMP:20260507T121500Z
DTEND:20260507T133000Z
END:VEVENT
BEGIN:VEVENT
UID:4930572@www.econ.ku.dk
DESCRIPTION:Seminar arranged by Center for Economic Behavior and Inequalit
 y (CEBI)\n\nhttps://www.econ.ku.dk/cebi/events/seminars/lorenz-kueng-unive
 rst-della-svizzera-italiana/
SUMMARY:Lorenz Kueng\, Universtá della Svizzera Italiana
CATEGORIES:Seminar
LOCATION:CSS\, Øster Farimagsgade 5\, Building 35\, room 35.3.20
ORGANIZER:Center for Economic Behavior and Inequality (CEBI)
DTSTART:20260521T121500Z
DTSTAMP:20260521T121500Z
DTEND:20260521T133000Z
END:VEVENT
BEGIN:VEVENT
UID:4979952@www.econ.ku.dk
DESCRIPTION:Seminar arranged by Center for Economic Behavior and Inequalit
 y (CEBI)\n\nhttps://www.econ.ku.dk/cebi/events/seminars/jarkko-harju-unive
 rsity-of-tampere/
SUMMARY:Jarkko Harju\, University of Tampere
CATEGORIES:Seminar
LOCATION:CSS\, Øster Farimagsgade 5\, Building 26\, room 26.2.21
ORGANIZER:Center for Economic Behavior and Inequality (CEBI)
DTSTART:20260528T121500Z
DTSTAMP:20260528T121500Z
DTEND:20260528T133000Z
END:VEVENT
BEGIN:VEVENT
UID:4979955@www.econ.ku.dk
DESCRIPTION:Seminar arranged by Center for Economic Behavior and Inequalit
 y (CEBI)\n\nhttps://www.econ.ku.dk/cebi/events/seminars/michael-weber-purd
 ue-university/
SUMMARY:Michael Weber\, Purdue University
CATEGORIES:Seminar
LOCATION:CSS\, Øster Farimagsgade 5\, Building 26\, room 26.2.21
ORGANIZER:Center for Economic Behavior and Inequality (CEBI)
DTSTART:20260604T121500Z
DTSTAMP:20260604T121500Z
DTEND:20260604T133000Z
END:VEVENT
BEGIN:VEVENT
UID:4976586@www.econ.ku.dk
DESCRIPTION:Organized by Center for Economic Behavior and Inequality (CEBI
 )\n\nhttps://www.econ.ku.dk/cebi/events/conferences-and-workshops/phd-work
 shop-on-labor-and-behavioral-economics/
SUMMARY:2nd. PhD workshop on Labor and Behavioral Economics
CATEGORIES:Konference
LOCATION:CSS\, Øster Farimagsgade 5\, Building 26\, room 35.3.13
ORGANIZER:Center for Economic Behavior and Inequality (CEBI)
DTSTART:20260608T070000Z
DTSTAMP:20260608T070000Z
DTEND:20260609T150000Z
END:VEVENT
BEGIN:VEVENT
UID:4979958@www.econ.ku.dk
DESCRIPTION:Seminar arranged by Center for Economic Behavior and Inequalit
 y (CEBI)\n\nhttps://www.econ.ku.dk/cebi/events/seminars/ingrid-huitfeld-no
 rwegian-business-school/
SUMMARY:Ingrid Huitfeld\, Norwegian Business School
CATEGORIES:Seminar
LOCATION:CSS\, Øster Farimagsgade 5\, Building 26\, room 26.2.21
ORGANIZER:Center for Economic Behavior and Inequality (CEBI)
DTSTART:20260611T121500Z
DTSTAMP:20260611T121500Z
DTEND:20260611T133000Z
END:VEVENT
BEGIN:VEVENT
UID:4980889@www.econ.ku.dk
DESCRIPTION:\n\nhttps://www.econ.ku.dk/cebi/events/conferences-and-worksho
 ps/eprn-conference-2026/
SUMMARY:EPRN Conference 2026
LOCATION:CSS\, Øster Farimagsgade 5\, Building 35\, room 35.01.05
ORGANIZER:EPRN & Center for Economic Behavior and Inequality (CEBI)
DTSTART:20260619T070000Z
DTSTAMP:20260619T070000Z
DTEND:20260619T143000Z
END:VEVENT
BEGIN:VEVENT
UID:5030491@www.econ.ku.dk
DESCRIPTION:Seminar arranged by Center for Economic Behavior and Inequalit
 y (CEBI)\n\nhttps://www.econ.ku.dk/cebi/events/seminars/adrian-lerche-inst
 itute-for-employment-research-iab-nuremberg/
SUMMARY:Adrian Lerche\, Institute for Employment Research (IAB)\, Nurember
 g
CATEGORIES:Seminar
LOCATION:CSS\, Øster Farimagsgade 5\, Building 26\, room 26.2.21
ORGANIZER:Center for Economic Behavior and Inequality (CEBI)
DTSTART:20260910T121500Z
DTSTAMP:20260910T121500Z
DTEND:20260910T133000Z
END:VEVENT
BEGIN:VEVENT
UID:5028418@www.econ.ku.dk
DESCRIPTION:Seminar arranged by Center for Economic Behavior and Inequalit
 y (CEBI)\n\nhttps://www.econ.ku.dk/cebi/events/seminars/sydney-cconstantin
 i-bocconi-university--ubc/
SUMMARY:Sydney Constantini\, Bocconi University & UBC
CATEGORIES:Seminar
LOCATION:CSS\, Øster Farimagsgade 5\, Building 26\, room 26.2.21
ORGANIZER:Center for Economic Behavior and Inequality (CEBI)
DTSTART:20260924T121500Z
DTSTAMP:20260924T121500Z
DTEND:20260924T133000Z
END:VEVENT
BEGIN:VEVENT
UID:5028511@www.econ.ku.dk
DESCRIPTION:Seminar arranged by Center for Economic Behavior and Inequalit
 y (CEBI)\n\nhttps://www.econ.ku.dk/cebi/events/seminars/anders-jensen-harv
 ard-university/
SUMMARY:Anders Jensen\, Harvard University
CATEGORIES:Seminar
LOCATION:CSS\, Øster Farimagsgade 5\, Building 26\, room 26.2.21
ORGANIZER:Center for Economic Behavior and Inequality (CEBI)
DTSTART:20261001T121500Z
DTSTAMP:20261001T121500Z
DTEND:20261001T133000Z
END:VEVENT
BEGIN:VEVENT
UID:5030191@www.econ.ku.dk
DESCRIPTION:Seminar arranged by Center for Economic Behavior and Inequalit
 y (CEBI)\n\nhttps://www.econ.ku.dk/cebi/events/seminars/gisle-natvik-norwe
 gian-business-school/
SUMMARY:Gisle Natvik\, Norwegian Business School
CATEGORIES:Seminar
LOCATION:CSS\, Øster Farimagsgade 5\, Building 26\, room 26.2.21
ORGANIZER:Center for Economic Behavior and Inequality (CEBI)
DTSTART:20261029T131500Z
DTSTAMP:20261029T131500Z
DTEND:20261029T143000Z
END:VEVENT
BEGIN:VEVENT
UID:5030674@www.econ.ku.dk
DESCRIPTION:Seminar arranged by Center for Economic Behavior and Inequalit
 y (CEBI)\n\nhttps://www.econ.ku.dk/cebi/events/seminars/peter-haan-frei-un
 iversitt-berlin--diw/
SUMMARY:Peter Haan\, Frei Universität Berlin & DIW
CATEGORIES:Seminar
LOCATION:CSS\, Øster Farimagsgade 5\, Building 26\, room 26.2.21
ORGANIZER:Center for Economic Behavior and Inequality (CEBI)
DTSTART:20261119T131500Z
DTSTAMP:20261119T131500Z
DTEND:20261119T143000Z
END:VEVENT
BEGIN:VEVENT
UID:5030677@www.econ.ku.dk
DESCRIPTION:Seminar arranged by Center for Economic Behavior and Inequalit
 y (CEBI)\n\nhttps://www.econ.ku.dk/cebi/events/seminars/moritz-kuhn-univer
 sity-of-mannheim/
SUMMARY:Moritz Kuhn\, University of Mannheim
CATEGORIES:Seminar
LOCATION:CSS\, Øster Farimagsgade 5\, Building 26\, room 26.2.21
ORGANIZER:Center for Economic Behavior and Inequality (CEBI)
DTSTART:20261126T131500Z
DTSTAMP:20261126T131500Z
DTEND:20261126T143000Z
END:VEVENT
BEGIN:VEVENT
UID:5028421@www.econ.ku.dk
DESCRIPTION:Seminar arranged by Center for Economic Behavior and Inequalit
 y (CEBI)\n\nhttps://www.econ.ku.dk/cebi/events/seminars/andreas-fuster/
SUMMARY:Andreas Fuster\, Swiss Finance Institute
CATEGORIES:Seminar
LOCATION:CSS\, Øster Farimagsgade 5\, Building 26\, room 26.2.21
ORGANIZER:Center for Economic Behavior and Inequality (CEBI)
DTSTART:20261203T131500Z
DTSTAMP:20261203T131500Z
DTEND:20261203T143000Z
END:VEVENT
BEGIN:VEVENT
UID:5028439@www.econ.ku.dk
DESCRIPTION:Seminar arranged by Center for Economic Behavior and Inequalit
 y (CEBI)\n\nhttps://www.econ.ku.dk/cebi/events/seminars/anne-gielen-univer
 sity-of-rotterdam/
SUMMARY:Anne Gielen\, University of Rotterdam
CATEGORIES:Seminar
LOCATION:CSS\, Øster Farimagsgade 5\, Building 26\, room 26.2.21
ORGANIZER:Center for Economic Behavior and Inequality (CEBI)
DTSTART:20261210T131500Z
DTSTAMP:20261210T131500Z
DTEND:20261210T143000Z
END:VEVENT
BEGIN:VEVENT
UID:5029966@www.econ.ku.dk
DESCRIPTION:Seminar arranged by Center for Economic Behavior an Inequality
  (CEBI)\n\nhttps://www.econ.ku.dk/cebi/events/seminars/sevgi-yuksel-new-yo
 rk-university/
SUMMARY:Sevgi Yuksel\, New York University
CATEGORIES:Seminar
LOCATION:CSS\, Øster Farimagsgade 5\, Building 26\, room 26.2.21
ORGANIZER:Center for Economic Behavior and Inequality (CEBI)
DTSTART:20261217T131500Z
DTSTAMP:20261217T131500Z
DTEND:20261217T143000Z
END:VEVENT
BEGIN:VEVENT
UID:5032546@www.econ.ku.dk
DESCRIPTION:Seminar arranged by Center for Economic Behavior and Inequalit
 y (CEBI)\n\nhttps://www.econ.ku.dk/cebi/events/seminars/kathrine-b.-coffma
 nn-harvard-business-school/
SUMMARY:Kathrine B. Coffman\, Harvard Business School
CATEGORIES:Seminar
LOCATION:CSS\, Øster Farimagsgade 5\, Building 26\, room 26.2.21
ORGANIZER:Center for Economic Behavior and Inequality (CEBI)
DTSTART:20270422T121500Z
DTSTAMP:20270422T121500Z
DTEND:20270422T133000Z
END:VEVENT
BEGIN:VEVENT
UID:5028463@www.econ.ku.dk
DESCRIPTION:Seminar arranged by Center for Economic Behavior and Inequalit
 y (CEBI)\n\nhttps://www.econ.ku.dk/cebi/events/seminars/molly-schnell-nort
 hwestern-university/
SUMMARY:Molly Schnell\, Northwestern University
CATEGORIES:Seminar
LOCATION:CSS\, Øster Farimagsgade 5\, Building 26\, room 26.2.21
ORGANIZER:Center for Economic Behavior and Inequality (CEBI)
DTSTART:20270527T121500Z
DTSTAMP:20270527T121500Z
DTEND:20270527T133000Z
END:VEVENT
END:VCALENDAR
